BEGIN:VCALENDAR
VERSION:2.0
PRODID:-//www.loftkoeln.de - ECPv5.14.2.1//NONSGML v1.0//EN
CALSCALE:GREGORIAN
METHOD:PUBLISH
X-WR-CALNAME:www.loftkoeln.de
X-ORIGINAL-URL:https://www.loftkoeln.de
X-WR-CALDESC:Veranstaltungen für www.loftkoeln.de
BEGIN:VTIMEZONE
TZID:UTC
BEGIN:STANDARD
TZOFFSETFROM:+0000
TZOFFSETTO:+0000
TZNAME:UTC
DTSTART:20170101T000000
END:STANDARD
END:VTIMEZONE
BEGIN:VEVENT
DTSTART;TZID=UTC:20170710T203000
DTEND;TZID=UTC:20170710T203000
DTSTAMP:20260420T182235
CREATED:20170511T103552Z
LAST-MODIFIED:20170707T083131Z
UID:4826-1499718600-1499718600@www.loftkoeln.de
SUMMARY:Zuzana Leharová Quartett
DESCRIPTION:Zuzana Leharová – violin\nConstantin Krahmer – piano\nFlorian Herzog – bass\nNils Tegen – drums \n\nZu hören ist eine mit neuen Kompositionen durchtränkte Biosphäre\, deren Wechselwirkungen erkundet werden.\nInnerhalb dieses treibenden Systems ist ein filigranes wie auch ekstatische Spiel der Violine zu hören\, dessen Facettenreichtum aufgezeigt wird\, auf der Suche nach Klängen und Zusammenklängen\, basierend auf Mikrotexturen und Kompositionen mit Melodien\, deren Ursprung nicht nur in Zuzanas Heimat wieder zu finden sind\, sondern auch Lebenssituationen oder Emotionen reflektieren. \nwww.zuzanaleharova.com
URL:https://www.loftkoeln.de/event/zuzana-leharova-quartett/
END:VEVENT
END:VCALENDAR