BEGIN:VCALENDAR
VERSION:2.0
PRODID:-//www.loftkoeln.de - ECPv5.14.2.1//NONSGML v1.0//EN
CALSCALE:GREGORIAN
METHOD:PUBLISH
X-WR-CALNAME:www.loftkoeln.de
X-ORIGINAL-URL:https://www.loftkoeln.de
X-WR-CALDESC:Veranstaltungen für www.loftkoeln.de
BEGIN:VTIMEZONE
TZID:Europe/Berlin
BEGIN:DAYLIGHT
TZOFFSETFROM:+0100
TZOFFSETTO:+0200
TZNAME:CEST
DTSTART:20220327T010000
END:DAYLIGHT
BEGIN:STANDARD
TZOFFSETFROM:+0200
TZOFFSETTO:+0100
TZNAME:CET
DTSTART:20221030T010000
END:STANDARD
END:VTIMEZONE
BEGIN:VEVENT
DTSTART;TZID=Europe/Berlin:20220913T203000
DTEND;TZID=Europe/Berlin:20220913T203000
DTSTAMP:20260421T125237
CREATED:20220801T093358Z
LAST-MODIFIED:20220827T094408Z
UID:21298-1663101000-1663101000@www.loftkoeln.de
SUMMARY:ZOOM: Mattner · van Endert · Räther · Beyer | CD-Release: The Curse of Unspoken Words
DESCRIPTION:Stephan Mattner – Tenorsaxophon\, Komposition\, Arrangement\nPhilipp van Endert -­ Gitarre\nSebastian Räther – Bass\nJo Beyer – Schlagzeug \n\n(english: see below) \nInformationen zu den Preisen\, Karten-Reservierungen und den Öffnungszeiten finden Sie hier\n© Kurt Rade\nVier international renommierte Jazz-Instrumentalisten verbinden ihre charakteristischen Stimmen mit der Band ZOOM. Sie treten in solistischen Momenten zeitweise in den Vordergrund\, um dann im nächsten Augenblick wieder in die Anbindung des Gesamtklangs einzutauchen. Das kompositorische Konzept dieser Formation ist im Kern eine Klangverschmelzung von vier Instrumenten. Neben minimalistischen Melodiepattern sind Elemente von modern Jazz\, artverwandten Stilen und beinahe sphärischen Melodien charakteristisch. Diese steigern sich im spannungsgeladenen Aufbau zu dem kraftvollen und komplexen Klangkonstrukt „ZOOM“. \nwww.zoommusic.de \n“ … Kurz: man muss es machen wie das Quartett Zoom\, … in dem sich Mattner und der Gitarrist van Endert melodische Bälle zuwerfen und sich gemeinsam mit dem Bassisten Räther und Beyer am Schlagzeug dafür ins Zeug legen\, dass die Musik noch in ihren ruhigsten Momenten nicht ihre rasante Spannung und ihren Drive verliert. … „\nJazzthetik Juli/August 2020 \n„ … amtlich körnige Jazz … tolle Grooves\, selbst in den ruhigeren Stücken … (als Band) ist man in keine Untiefe geraten\, jede Phrase macht Sinn\, ob bei den Soli oder auch bei den Unisono Passagen. … „\nConcerto August/September 2020 \n\n  \nnbsp; \nGefördert durch den \n \n  \n  \nunterstützt mit Mitteln der  \n \n\nStephan Mattner – tenor saxophone\, composition\, arrangement\nPhilipp van Endert – guitar\nSebastian Räther – bass\nJo Beyer – drums \nInformation about prices\, ticket reservations and our opening times can be found here. \nFour internationally renowned jazz instrumentalists combine their characteristic voices with the band ZOOM. They temporarily step into the foreground in solo moments\, only to dive back into the connection of the overall sound in the next moment. The compositional concept of this formation is essentially a sound fusion of four instruments. Alongside minimalist melodic patterns\, elements of modern jazz\, related styles and almost spherical melodies are characteristic. These increase in the tension-laden structure to the powerful and complex sound construct „ZOOM“. \nwww.zoommusic.de \n„… In short: you have to do it like the quartet Zoom\, … in which Mattner and guitarist van Endert throw melodic balls at each other and\, together with bassist Räther and Beyer on drums\, work hard to ensure that the music doesn’t lose its rapid tension and drive even in its quietest moments. … „\nJazzthetik July/August 2020 \n 
URL:https://www.loftkoeln.de/event/zoom-mattner-%c2%b7-van-endert-%c2%b7-raether-%c2%b7-beyer-cd-release-the-curse-of-unspoken-words/
END:VEVENT
END:VCALENDAR