BEGIN:VCALENDAR
VERSION:2.0
PRODID:-//www.loftkoeln.de - ECPv5.14.2.1//NONSGML v1.0//EN
CALSCALE:GREGORIAN
METHOD:PUBLISH
X-WR-CALNAME:www.loftkoeln.de
X-ORIGINAL-URL:https://www.loftkoeln.de
X-WR-CALDESC:Veranstaltungen für www.loftkoeln.de
BEGIN:VTIMEZONE
TZID:UTC
BEGIN:STANDARD
TZOFFSETFROM:+0000
TZOFFSETTO:+0000
TZNAME:UTC
DTSTART:20160101T000000
END:STANDARD
END:VTIMEZONE
BEGIN:VEVENT
DTSTART;TZID=UTC:20160506T203000
DTEND;TZID=UTC:20160506T203000
DTSTAMP:20260423T235757
CREATED:20160506T183000Z
LAST-MODIFIED:20170223T121022Z
UID:1049-1462566600-1462566600@www.loftkoeln.de
SUMMARY:Yannis Anft Trio
DESCRIPTION:Yannis Anft – p\, synth\nAlex Dawo – b\nLeif Berger – dr \n\nDie drei Musiker lernten sich 2013 durch das Studium an der Kölner Musikhochschule kennen. Seitdem sind sie zu einem aktiven Teil der spannenden Kölner Jazz- und Improszene geworden.  Im Trio beschäftigen sie sich hauptsächlich mit den Kompositionen von Bandleader und Pianist Yannis Anft. Das von klassischer Moderne bis Pop\, Indierock und elektronischer Musik geprägte Klangbild der Band wird seit Neuem durch einen virtuell analogen Synthesizer erweitert.
URL:https://www.loftkoeln.de/event/yannis-anft-trio/
END:VEVENT
END:VCALENDAR