BEGIN:VCALENDAR
VERSION:2.0
PRODID:-//www.loftkoeln.de - ECPv5.14.2.1//NONSGML v1.0//EN
CALSCALE:GREGORIAN
METHOD:PUBLISH
X-WR-CALNAME:www.loftkoeln.de
X-ORIGINAL-URL:https://www.loftkoeln.de
X-WR-CALDESC:Veranstaltungen für www.loftkoeln.de
BEGIN:VTIMEZONE
TZID:Europe/Berlin
BEGIN:DAYLIGHT
TZOFFSETFROM:+0100
TZOFFSETTO:+0200
TZNAME:CEST
DTSTART:20240331T010000
END:DAYLIGHT
BEGIN:STANDARD
TZOFFSETFROM:+0200
TZOFFSETTO:+0100
TZNAME:CET
DTSTART:20241027T010000
END:STANDARD
END:VTIMEZONE
BEGIN:VEVENT
DTSTART;TZID=Europe/Berlin:20240416T200000
DTEND;TZID=Europe/Berlin:20240416T200000
DTSTAMP:20260423T143201
CREATED:20240304T153854Z
LAST-MODIFIED:20240307T122753Z
UID:26423-1713297600-1713297600@www.loftkoeln.de
SUMMARY:Yaniel Matos - Solo | “Mi tierra"
DESCRIPTION:Yaniel Matos – Cello\, Piano\, Gesang\n \n\n(english: see below) \nAb Januar 2024 beginnen alle Konzerte im LOFT um 20.00 Uhr.\nAusnahmen – z.B. Sonntags – sind möglich.\nWeitere Informationen zu den Preisen\, Karten-Reservierungen und den Öffnungszeiten finden Sie hier.\nYaniel Matos\nDer kubanische Multi-Instrumentalist Yaniel Matos stellt sein Solo-Programm Mi Tierra vor. \nKlavier\, Cello und Gesang schaffen einen offenen Raum für Improvisation und musikalische Begegnungen. Es werden sowohl selbstgeschriebene Stücke als auch Klassiker des traditionellen kubanischen Repertoires erklingen.\nUnter dem Titel Cello – Mi tierra verbirgt sich eine starke Verbindung zu den afrokubanischen Wurzeln des Musikers\, die seine Kompositionen stark beeinflussen. Er kombiniert oft europäische Harmonien mit lateinamerikanischen Rhythmen und Jazzelementen\, und sucht nach Klängen\, die aus dem Cello und dem Klavier heraus eine Begegnung zwischen der Natur und dem Abstrakten hervorbringen. Durch Improvisationen und den Einsatz seiner Stimme als zusätzliches kreatives Mittel zeigt er eine einzigartige Vielfalt von Klangfarben als künstlerischer Ausdruck. \nYaniel Matos\, gebürtig aus Santiago de Cuba\, begann seine musikalische Ausbildung im Alter von acht Jahren. Während seines Cello- und Kompositionsstudiums in Havanna\, wirkte er als Pianist in den bedeutendsten Tanz- und Jazzorchestern Kubas mit\, darunter Orlando Valles-Maraca\, Paulito FG und Isaac Delgado. Er trug dabei zur Entwicklung des Timba-Genres in den 90er Jahren bei. \nIm Jahr 2000 zog er nach Sao Paulo – Brasilien\, wo er sich als vielseitiger Musiker in der populären Musikszene etabliert\, und integriert dabei neue Rhythmen\, Farben und eine andere Art\, lateinamerikanische Musik zu erleben. Seine frühe Zusammenarbeit mit Künstlern wie Carlinhos Brown ermöglicht ihm eine tiefere Verbindung zur bahianischen Afro-Kultur\, in der er viele Gemeinsamkeiten mit der Kultur von Santiago de Cuba entdeckt. In dieser Zeit wächst der Wunsch\, seine improvisationsgeprägte Klaviersprache auf das Cello zu übertragen und dadurch unkonventionelle Wege in der Welt der Streichinstrumente zu beschreiten. \n„Das Cello und das Klavier bringen mein Leben ins Gleichgewicht” \nYaniel Matos hat bislang acht eigene Alben aufgenommen (von denen “La Mirada” bei den American IMW – Independent Music Awards 2015 als bestes Jazzalbum mit Gesang nominiert wurde) und ist auf zahlreichen internationalen Festivals aufgetreten. Außerdem hat er Musik für mehrere CD-Produktionen\, Filme\, Dokumentationen und Serien in Brasilien komponiert und produziert.\nIm LOFT ist er bereits 2020 mit der Cologne String BigBand und 2022 mit seinem Trio aufgetreten. \n\nKlingt so: \n\n\nYaniel Matos – Cello\, Piano\, Gesang \nFrom January 2024 on\, the concerts at the LOFT start round 8.00 pm\nExceptions – e.g. on Sundays – are possible.\nFurther information about prices\, ticket reservations and our opening times can be found here. \nCuban multi-instrumentalist Yaniel Matos presents his solo program Mi Tierra. \nPiano\, cello and vocals create an open space for improvisation and musical encounters. He will perform pieces he has written himself as well as classics from the traditional Cuban repertoire.\nThe title Cello – Mi tierra conceals a strong connection to the musician’s Afro-Cuban roots\, which strongly influence his compositions. He often combines European harmonies with Latin American rhythms and jazz elements\, searching for sounds that create an encounter between nature and the abstract from the cello and the piano. Through improvisation and the use of his voice as an additional creative tool\, he displays a unique variety of timbres as artistic expression. \nYaniel Matos\, a native of Santiago de Cuba\, began his musical training at the age of eight. During his cello and composition studies in Havana\, he played as a pianist in the most important dance and jazz orchestras in Cuba\, including Orlando Valles-Maraca\, Paulito FG and Isaac Delgado. He contributed to the development of the timba genre in the 90s. \nIn 2000\, he moved to Sao Paulo\, Brazil\, where he established himself as a versatile musician in the popular music scene\, integrating new rhythms\, colors and a different way of experiencing Latin American music. His early collaboration with artists such as Carlinhos Brown allowed him to connect more deeply with the Bahian Afro culture\, where he discovered many similarities with the culture of Santiago de Cuba. During this time\, his desire to transfer his improvisational piano language to the cello grew\, allowing him to explore unconventional paths in the world of string instruments. \n„The cello and the piano bring balance to my life“ \nYaniel Matos has recorded eight albums to date (of which „La Mirada“ was nominated for Best Jazz Album with Vocals at the American IMW – Independent Music Awards 2015) and has performed at numerous international festivals. He has also composed and produced music for several CD productions\, films\, documentaries and series in Brazil.\nHe has already performed at LOFT with the Cologne String BigBand in 2020 and with his trio in 2022.
URL:https://www.loftkoeln.de/event/yaniel-matos-solo-mi-tierra/
END:VEVENT
END:VCALENDAR