BEGIN:VCALENDAR
VERSION:2.0
PRODID:-//www.loftkoeln.de - ECPv5.14.2.1//NONSGML v1.0//EN
CALSCALE:GREGORIAN
METHOD:PUBLISH
X-WR-CALNAME:www.loftkoeln.de
X-ORIGINAL-URL:https://www.loftkoeln.de
X-WR-CALDESC:Veranstaltungen für www.loftkoeln.de
BEGIN:VTIMEZONE
TZID:UTC
BEGIN:STANDARD
TZOFFSETFROM:+0000
TZOFFSETTO:+0000
TZNAME:UTC
DTSTART:20130101T000000
END:STANDARD
END:VTIMEZONE
BEGIN:VEVENT
DTSTART;TZID=UTC:20131118T140000
DTEND;TZID=UTC:20131118T140000
DTSTAMP:20260425T155923
CREATED:20170405T104644Z
LAST-MODIFIED:20170405T104644Z
UID:4595-1384783200-1384783200@www.loftkoeln.de
SUMMARY:Workshop der KGNM mit Erik Bosgraaf
DESCRIPTION:Blockflöte 2.0 Geschichte Repertoire und Spieltechniken der zeitgenössischen Musik
URL:https://www.loftkoeln.de/event/workshop-der-kgnm-mit-erik-bosgraaf/
END:VEVENT
END:VCALENDAR