BEGIN:VCALENDAR
VERSION:2.0
PRODID:-//www.loftkoeln.de - ECPv5.14.2.1//NONSGML v1.0//EN
CALSCALE:GREGORIAN
METHOD:PUBLISH
X-WR-CALNAME:www.loftkoeln.de
X-ORIGINAL-URL:https://www.loftkoeln.de
X-WR-CALDESC:Veranstaltungen für www.loftkoeln.de
BEGIN:VTIMEZONE
TZID:UTC
BEGIN:STANDARD
TZOFFSETFROM:+0000
TZOFFSETTO:+0000
TZNAME:UTC
DTSTART:20120101T000000
END:STANDARD
END:VTIMEZONE
BEGIN:VEVENT
DTSTART;TZID=UTC:20120905T203000
DTEND;TZID=UTC:20120905T203000
DTSTAMP:20260420T133032
CREATED:20171012T070525Z
LAST-MODIFIED:20171012T070525Z
UID:5527-1346877000-1346877000@www.loftkoeln.de
SUMMARY:WEBBLÄS
DESCRIPTION:Paul Hubweber – Posaune\nJürg Bariletti – präp. Flüge \n\n„Bariletti’s “Gewebe” am mit Stricknadeln Schnüren etc. präparierten Flügel und Hubweber’s “Gebläse” aus seiner Trombone verflechten sich\, verhäkeln zu merkwürdigen Klangmustern und verspinnen sich. Hubweber’s schier unendliche Fülle von unkonventionellen Klangerzeugungsmöglichkeiten an seinem Instrument lassen sich ebenso bestens mit Bariletti’s selbstgebautem elektroakustischen Instrument namens “Acoustic-Lab-Top-Mobile” zusammennähen\, welcher ebenso eine Unfülle von Geräuschen und Sounds erzeugen kann. Das jeweilige Ergebnis ist eine filigran und fein abgestimmte\, abgetönte Collage aus kleinen Klangfetzen und Gehäkel. \nDieses neue Berliner WEBBLÄS Duo jetzt im Rahmen der Septemberreise im LOFT. Weitere Konzerte im Duo und in Zusammenarbeit mit Paul Lytton und Sue Schlotte. \nwww.myspace.com/bariletti \nwww.hubweber.eu
URL:https://www.loftkoeln.de/event/webblas/
END:VEVENT
END:VCALENDAR