BEGIN:VCALENDAR
VERSION:2.0
PRODID:-//www.loftkoeln.de - ECPv5.14.2.1//NONSGML v1.0//EN
CALSCALE:GREGORIAN
METHOD:PUBLISH
X-WR-CALNAME:www.loftkoeln.de
X-ORIGINAL-URL:https://www.loftkoeln.de
X-WR-CALDESC:Veranstaltungen für www.loftkoeln.de
BEGIN:VTIMEZONE
TZID:Europe/Berlin
BEGIN:DAYLIGHT
TZOFFSETFROM:+0100
TZOFFSETTO:+0200
TZNAME:CEST
DTSTART:20250330T010000
END:DAYLIGHT
BEGIN:STANDARD
TZOFFSETFROM:+0200
TZOFFSETTO:+0100
TZNAME:CET
DTSTART:20251026T010000
END:STANDARD
END:VTIMEZONE
BEGIN:VEVENT
DTSTART;TZID=Europe/Berlin:20250305T200000
DTEND;TZID=Europe/Berlin:20250305T200000
DTSTAMP:20260423T155618
CREATED:20250121T144724Z
LAST-MODIFIED:20250203T091024Z
UID:28764-1741204800-1741204800@www.loftkoeln.de
SUMMARY:Wanja Slavin Trio | live recording
DESCRIPTION:Wanja Slavin – Saxophon\nDavid Helm – Bass\nFabian Arends – Schlagzeug\n \n\n(english: see below) \nWeitere Informationen zu den Preisen\, Karten-Reservierungen und den Öffnungszeiten finden Sie hier.\n\nDie drei Musiker hab sich nach einer sehr langen Pause im letzten Jahr eher zufällig wieder für ein Konzert zusammengefunden\, und hatten dabei von der ersten Note an unglaublich viel Freude an ihrer gemeinsamen Musik. Nun habe sie sich zu einem neuen Trio um den Saxophonisten Wanja Slavin formiert.\nDas Repertoire setzt sich aus den unterschiedlichsten Lieblingsstücken zusammen. Nichts davon ist geprobt oder arrangiert\, denn wenn die Sterne gut stehen\, bahnt sich die Musik immer ihren eigenen\, geheimnisvoll schönen Weg\, wenn man sie lässt. \nWanja Slavin © Dovile Sermokas\nWanja Slavin ist seit einigen Jahren mit seinen Projekten wie AMOK AMOR\, Lotus Eaters und LIUN & THE SCIENCE FICTION BAND nicht mehr aus dem deutschen Jazz wegzudenken. Der Multiinstrumentalist\, Komponist und Produzent lebt in den Wäldern Brandenburgs\, von wo aus er die deutsche Szene wie wenige bereichert. Im Laufe seiner Karriere spielte er bereits mit unzähligen einflussreichen Musiker*innen unserer Zeit – darunter Kenny Wheeler\, Cécile McLorin Salvant\, Joachim Kühn und Peter Evans – sowie mit dem Who-is-Who der deutschen Jazzwelt.\nSein Spiel wurde vielfach ausgezeichnet\, unter anderem mit dem Echo Jazz\, dem BMW Welt Jazzaward und dem Neuen Deutschen Jazzpreis. \nhttp://www.wanja-slavin.de/ \nhttps://davidhelm.net/ \nhttps://www.fabianarends.com/ \n  \n\n\nKlingt so ähnlich wie:\n \n\n\n\n\n\nWanja Slavin – saxophon\nDavid Helm – bass\nFabian Arends – drums \nFurther information about prices\, ticket reservations and our opening times can be found here. \nAfter a very long break\, the three musicians got together again by chance for a concert last year\, and had an incredible amount of fun playing music together from the very first note. Now they have formed a new trio around saxophonist Wanja Slavin.\nThe repertoire is made up of a wide variety of favorite pieces. None of it is rehearsed or arranged\, because when the stars are aligned\, the music will always pave its own mysteriously beautiful path if you let it. \nWith his projects such as AMOK AMOR\, Lotus Eaters and LIUN & THE SCIENCE FICTION BAND\, Wanja Slavin has been an integral part of the German jazz scene for several years now. The multi-instrumentalist\, composer and producer lives in the forests of Brandenburg\, from where he enriches the German scene like few others. Over the course of his career\, he has played with countless influential musicians of our time – including Kenny Wheeler\, Cécile McLorin Salvant\, Joachim Kühn and Peter Evans – as well as with the who’s who of the German jazz world.\nHis playing has received numerous awards\, including the Echo Jazz\, the BMW Welt Jazzaward and the New German Jazz Award. \n 
URL:https://www.loftkoeln.de/event/wanja-slavin-trio/
END:VEVENT
END:VCALENDAR