BEGIN:VCALENDAR
VERSION:2.0
PRODID:-//www.loftkoeln.de - ECPv5.14.2.1//NONSGML v1.0//EN
CALSCALE:GREGORIAN
METHOD:PUBLISH
X-WR-CALNAME:www.loftkoeln.de
X-ORIGINAL-URL:https://www.loftkoeln.de
X-WR-CALDESC:Veranstaltungen für www.loftkoeln.de
BEGIN:VTIMEZONE
TZID:Europe/Berlin
BEGIN:DAYLIGHT
TZOFFSETFROM:+0100
TZOFFSETTO:+0200
TZNAME:CEST
DTSTART:20220327T010000
END:DAYLIGHT
BEGIN:STANDARD
TZOFFSETFROM:+0200
TZOFFSETTO:+0100
TZNAME:CET
DTSTART:20221030T010000
END:STANDARD
END:VTIMEZONE
BEGIN:VEVENT
DTSTART;TZID=Europe/Berlin:20220105T203000
DTEND;TZID=Europe/Berlin:20220105T203000
DTSTAMP:20260420T120316
CREATED:20211130T135529Z
LAST-MODIFIED:20211228T122209Z
UID:18798-1641414600-1641414600@www.loftkoeln.de
SUMMARY:Vollbrecht · Schmid · Herzog · Mahnig
DESCRIPTION:Timo Vollbrecht – Saxophon\nStefan Karl Schmid – Saxophon\nFlorian Herzog – Bass\nDominik Mahnig – Schlagzeug\n \nDas Konzert wird vor Publikum stattfinden\, weitere Informationen zu Konzerten während der Corona-Pandemie finden Sie hier\, Informationen zu den Preisen\, Karten-Reservierungen und den Öffnungszeiten hier.\nNach jahrelangem Versuch auf verschiedenen Kontinenten zusammen ein Konzert zu spielen\, haben Vollbrecht und Herzog nun endlich für dieses Neujahrskonzert zusammengefunden. Zusammen mit langjährigen Kollegen Stefan Schmid und Dominik Mahnig wird nun ein Programm aus Musik beider in der energiegeladen Doppel-Tenor-Saxophon-Besetzung präsentiert. \n\nTimo Vollbrecht – saxophone\nStefan Karl Schmid – saxophone\nFlorian Herzog – bass\nDominik Mahnig – drums \nPlease read our infos concerning concerts with an audience during the Corona pandemic here. Information about prices\, ticket reservations and our opening times can be found here. \nAfter years of trying to play a concert together on different continents\, Vollbrecht and Herzog have finally come together for this New Year’s concert. Together with long-time colleagues Stefan Schmid and Dominik Mahnig\, a program of music by both will now be presented in the energetic double tenor saxophone line-up.
URL:https://www.loftkoeln.de/event/vollbrecht-herzog/
END:VEVENT
END:VCALENDAR