BEGIN:VCALENDAR
VERSION:2.0
PRODID:-//www.loftkoeln.de - ECPv5.14.2.1//NONSGML v1.0//EN
CALSCALE:GREGORIAN
METHOD:PUBLISH
X-WR-CALNAME:www.loftkoeln.de
X-ORIGINAL-URL:https://www.loftkoeln.de
X-WR-CALDESC:Veranstaltungen für www.loftkoeln.de
BEGIN:VTIMEZONE
TZID:UTC
BEGIN:STANDARD
TZOFFSETFROM:+0000
TZOFFSETTO:+0000
TZNAME:UTC
DTSTART:20180101T000000
END:STANDARD
END:VTIMEZONE
BEGIN:VEVENT
DTSTART;TZID=UTC:20180119T203000
DTEND;TZID=UTC:20180119T203000
DTSTAMP:20260423T143308
CREATED:20171122T105546Z
LAST-MODIFIED:20171205T121907Z
UID:6450-1516393800-1516393800@www.loftkoeln.de
SUMMARY:VocColours & Electric Birds
DESCRIPTION:VocColours:\nGala Hummel\, Brigitte Küpper\, Norbert Zajac und Iouri Grankin – Stimmen \nClaus van Bebber – Schallplatten\nPhilippe Micol – Bassklarinette\, Sopransaxophon \n\nFür die musikalische „Electric Birds“ Begegnung der VocColours in Köln am 19 Januar 2018 konnte das frei improvisierende Vokalquartett Claus van Bebber und den Saxophonisten Philippe Micol gewinnen. \n© André Symann\nVocColours\, vier improvisierende Stimmkünstler aus NRW haben sich zusammengefunden\, um die verschiedenen Möglichkeiten ihrer facettenreichen Stimmfarben auszuloten und neue musikalische Welten entstehen zu lassen. Dabei können Gratwanderungen zwischen Harmonie und Reibung\, Rhythmus und Chaos\, archaische Laute\, überraschende Komik\, spontane Wortschöpfungen und expressive oder meditative Klanggebilde entstehen und immer wieder Momente der Verschmelzung der einzelnen Stimmen zu einem einzigen Klangkörper stattfinden. Das geneigte Publikum empfindet die Musik von VocColours als eine musikalische Reise oder auch als „Musik zu einem inneren Film“.\nDie neue CD Produktion „Russian Affair“ der Konzerte mit Musikern aus der russischen freien Szene in Köln und Moskau erschien im September 2016 auf dem ArtBeat Label. \n„… ihre Vehemenz ist beispiellos\, ihre Sound-Vielfalt ist so groß wie nur möglich.“\nJan Slabý\, HIS Voice\, Czech Republic \nhttps://www.facebook.com/VocColours/ \n\nPhilippe Micol\, geboren in Basel\, Klarinettist\, Saxophonist\, Interpret\, Komponist\, Improvisator – lebte lange in Bern (CH) und nun seit einigen Jahren in Duisburg.\nÜber eine klassische Ausbildung\, die Beschäftigung mit Neuer und Experimenteller Musik sowie mit neuen Tendenzen im Jazz kam er zur Improvisierten Musik. 1982 initiierte er die Werkstatt für Improvisierte Musik in Bern.\nZusammenarbeit mit Performance-Künstlerinnen\, internationale Konzerttätigkeit\, Rundfunkproduktionen\, interdisziplinäre Arbeiten. In vielen Projekten anderer Musiker und Künstler beteiligt. Aufenthalte in Berlin und New York City. Elektronische Musik. Langjährige Beschäftigung mit der Musik von Thelonious Monk\, Ornette Coleman und Steve Lacy\, Evan Parker\, John Zorn.\nAktuell mit Claus van Bebber\, Martin Theurer\, Urs Peter Schneider und dem Troja-Quartett unterwegs. Setzt sich in Duisburg als Veranstalter für die Improvisierte Musik ein.\nVerschiedene Tonträger bei Unit Records Switzerland und NurNichtNur\, Kleve\, und im Eigenverlag. \n„… Philippe Micol ist ein Tüftler\, ein Forscher\, ein Suchender; keiner\, der definitive Meinungen hinstellt\, keiner\, dem der Klang so und derart absolut wäre. Micol ist eher ein Jongleur\, ein Mobilekünstler.“ Jazzthetik \nhttp://www.phmicol.de \nClaus van Bebber\, am Niederrhein geboren und dageblieben. Autodidakt\, seit 1979 freiberuflich als Künstler tätig. Bildende und darstellende Kunst\, sowie Neue\, Experimentelle und Improvisierte Musik. Seit 1990 entwickelte er Musik- und Aufführungsformen\, die ausschließlich durch Benutzung von Schallplatten entstehen. Dabei benutz er 5 bis 10 zum Teil präparierte Schallplattenabspielgeräte und eine unterschiedlich grosse Anzahl Schallplatten. Auch die Schallplatten sind zum Teil mechanisch präpariert. Die Improvisation und der Umgang mit dem Ort\, (akustische und architektonische Situationen\, sowie auch „Thema“ und Anlass)\, prägen ein Schallplattenkonzert entscheidend mit. 2002 NRW-Kompositionspreis für ‚Schallplattenkonzert + Lichtspiele‘ mit M.Vorfeld. 2005 Gründung ‚ArToll-Klanglabor-Ensemble‘. Aufnahmen und Produktionen für Schallplatte\, CD\, Film\, Rundfunk und Fernsehen\, Veröffentlichungen international in Dokumentationen\, Katalogen\, Büchern\, Zeitschriften und Magazinen. 1996 erschien die Werkübersicht (mit CD) ‚Claus van Bebber 1955-1996‘. \n„Was für John Cage das prepared piano war\, ist für Claus van Bebber die präparierte schwarze Scheibe\, der einstige Kulturgutträger\, der alle Arten von Musik geduldig konservierte.“\nNeue Zeitschrift für Musik \nhttp://www.cvbebber.de
URL:https://www.loftkoeln.de/event/voccolours-electric-birds/
END:VEVENT
END:VCALENDAR