BEGIN:VCALENDAR
VERSION:2.0
PRODID:-//www.loftkoeln.de - ECPv5.14.2.1//NONSGML v1.0//EN
CALSCALE:GREGORIAN
METHOD:PUBLISH
X-WR-CALNAME:www.loftkoeln.de
X-ORIGINAL-URL:https://www.loftkoeln.de
X-WR-CALDESC:Veranstaltungen für www.loftkoeln.de
BEGIN:VTIMEZONE
TZID:UTC
BEGIN:STANDARD
TZOFFSETFROM:+0000
TZOFFSETTO:+0000
TZNAME:UTC
DTSTART:20090101T000000
END:STANDARD
END:VTIMEZONE
BEGIN:VEVENT
DTSTART;TZID=UTC:20091008T203000
DTEND;TZID=UTC:20091008T203000
DTSTAMP:20260422T180523
CREATED:20171102T142917Z
LAST-MODIFIED:20171102T142917Z
UID:6288-1255033800-1255033800@www.loftkoeln.de
SUMMARY:Vive Le Jazz: Pablo Held Trio & Eric Legnini Trio
DESCRIPTION:Pablo Held – piano\nRobert Landfermann – bass\nJonas Burgwinkel – dr. \nEric Legnini – piano\nRosario Bonnacorso – bass\nFranck Agulhon – dr. \n\nVive Le Jazz\, das Französische Jazz Festival in Köln\, Bonn und Düsseldorf \n  \nNatürlich gehören Konzerte\, die sich um das Klavier drehen\, in das Loft in Köln\, den Ort mit dem weit und breit besten Flügel in einem Jazz Club. So wird vor allem einer der Exponenten der Jazz-Klavierkunst aus dem Französisch sprachigen Raum\, Eric Legnini\, mit seinem Trio zu hören sein. Gerade hat Legnini seine dritte CD „Triologie“ veröffentlicht\, bei der es um die Kunst des Klaviertrios im aktuellen Jazz geht. Legninis Musik ist lebendig\, unmittelbar und sinnlich\, zeigt die Vielfalt seiner pianistischen Originalität. Eröffnet wird der Abend aber von einem jungen Kölner Klaviertrio\, dem Pablo Held Trio. Pablo Held ist ein Musiker\, der trotz seiner Jugend bereits überall da\, wo er zu hören ist\, Furore macht. Eine Ausdrucksform voller Virtuosität macht ihn zu einem der viel versprechenden Stars des deutschen Jazz. Und nicht zufällig gehören zwei weitere junge Könner ihres Metiers zu dem Trio\, die sich längst einen Namen auch jenseits der rheinischen und deutschen Grenzen gemacht haben: Robert Landfermann\, frisch gekürter Kölner Jazzpreis Träger und Jonas Burgwinkel. Insgesamt ein Projekt\, mit dem die „Rheinschiene“ deutlich macht\, dass sie zu den großen Zentren des Jazz in Europa gehört.
URL:https://www.loftkoeln.de/event/vive-le-jazz-pablo-held-trio-eric-legnini-trio/
END:VEVENT
END:VCALENDAR