BEGIN:VCALENDAR
VERSION:2.0
PRODID:-//www.loftkoeln.de - ECPv5.14.2.1//NONSGML v1.0//EN
CALSCALE:GREGORIAN
METHOD:PUBLISH
X-WR-CALNAME:www.loftkoeln.de
X-ORIGINAL-URL:https://www.loftkoeln.de
X-WR-CALDESC:Veranstaltungen für www.loftkoeln.de
BEGIN:VTIMEZONE
TZID:UTC
BEGIN:STANDARD
TZOFFSETFROM:+0000
TZOFFSETTO:+0000
TZNAME:UTC
DTSTART:20160101T000000
END:STANDARD
END:VTIMEZONE
BEGIN:VEVENT
DTSTART;TZID=UTC:20160106T203000
DTEND;TZID=UTC:20160106T203000
DTSTAMP:20260423T173519
CREATED:20170113T113406Z
LAST-MODIFIED:20170113T113406Z
UID:3658-1452112200-1452112200@www.loftkoeln.de
SUMMARY:Vergabe der Spielstättenprogrammprämien NRW
DESCRIPTION:Vergabe der Spielstättenprogrammprämien NRW durch Kulturstaatssekretär Bernd Neuendorf . \nDie Veranstaltung wird musikalisch durch das Duo Doyna begleitet. Duo Doyna das sind Annette Maye (Klarinette) gerade ausgezeichnet mit dem Künstlerinnenpreis NRW und Martin Schulte (Gitarre). \nEintritt frei \n 
URL:https://www.loftkoeln.de/event/vergabe-der-spielstattenprogrammpramien-nrw/
END:VEVENT
END:VCALENDAR