BEGIN:VCALENDAR
VERSION:2.0
PRODID:-//www.loftkoeln.de - ECPv5.14.2.1//NONSGML v1.0//EN
CALSCALE:GREGORIAN
METHOD:PUBLISH
X-WR-CALNAME:www.loftkoeln.de
X-ORIGINAL-URL:https://www.loftkoeln.de
X-WR-CALDESC:Veranstaltungen für www.loftkoeln.de
BEGIN:VTIMEZONE
TZID:UTC
BEGIN:STANDARD
TZOFFSETFROM:+0000
TZOFFSETTO:+0000
TZNAME:UTC
DTSTART:20180101T000000
END:STANDARD
END:VTIMEZONE
BEGIN:VEVENT
DTSTART;TZID=UTC:20180530T203000
DTEND;TZID=UTC:20180530T203000
DTSTAMP:20260424T134400
CREATED:20180402T101245Z
LAST-MODIFIED:20180402T101245Z
UID:8011-1527712200-1527712200@www.loftkoeln.de
SUMMARY:VENTO 4
DESCRIPTION:Michael Heupel – Flöten\nNorbert Stein – Tenorsaxophon\nNicolao Valiensi – Euphonium\nGeorg Wissel – Altsaxophon\, Klarinette \n\nDas Bläserquartett spielt in virtuoser Besetzung Werke aus der Feder des italienischen Komponisten Nicolao Valiensi mit Bezügen zu seiner Heimat\, der Toskana\, neue\, bilderreiche Pata-Kompositionen von Norbert Stein\, ebenso wie neue Arbeiten von Georg Wissel. \nAbwechslungsreiche Bläsermusik in außergewöhnlicher Besetzung. \nde.wikipedia.org/wiki/Michael_Heupel \nwww.patamusic.de \nwww.banda-metafisica.de/personal/nicaloa-valiensi \ngeorgwissel.wordpress.com
URL:https://www.loftkoeln.de/event/vento-4/
END:VEVENT
END:VCALENDAR