BEGIN:VCALENDAR
VERSION:2.0
PRODID:-//www.loftkoeln.de - ECPv5.14.2.1//NONSGML v1.0//EN
CALSCALE:GREGORIAN
METHOD:PUBLISH
X-WR-CALNAME:www.loftkoeln.de
X-ORIGINAL-URL:https://www.loftkoeln.de
X-WR-CALDESC:Veranstaltungen für www.loftkoeln.de
BEGIN:VTIMEZONE
TZID:UTC
BEGIN:STANDARD
TZOFFSETFROM:+0000
TZOFFSETTO:+0000
TZNAME:UTC
DTSTART:20140101T000000
END:STANDARD
END:VTIMEZONE
BEGIN:VEVENT
DTSTART;TZID=UTC:20140403T203000
DTEND;TZID=UTC:20140403T203000
DTSTAMP:20260422T230142
CREATED:20170323T121533Z
LAST-MODIFIED:20170323T121533Z
UID:4458-1396557000-1396557000@www.loftkoeln.de
SUMMARY:Uwe Ecker Quaertett
DESCRIPTION:Michael Heupel – flutes\nDirk Peters – vibes.\nVolker Heinze – bass\nUwe Ecker – drums          \n\nEigenkompositionen\, Musik von Progressive Rock Bands wie Gentle Giant\, ELP\, Colosseum\, Jethro Tull und Musik von Erik Satie\, Paul Hindemith und anderen Komponisten des 20.Jahrhunderts neu bearbeitet\, re- harmonisiert\, re- rhythmisiert\, arrangiert und ausgestattet mit ausgedehnten Improvisationsparts sind das Konzept des Uwe Ecker Quartetts. Schwerpunkt ist – im Jazz eher\nuntypische – die Mehrstimmigkeit in den Themen\, relativ freie\, offene Improvisationen im Kontrast zu komplexen\, auskomponierten Themen.
URL:https://www.loftkoeln.de/event/uwe-ecker-quaertett/
END:VEVENT
END:VCALENDAR