BEGIN:VCALENDAR
VERSION:2.0
PRODID:-//www.loftkoeln.de - ECPv5.14.2.1//NONSGML v1.0//EN
CALSCALE:GREGORIAN
METHOD:PUBLISH
X-WR-CALNAME:www.loftkoeln.de
X-ORIGINAL-URL:https://www.loftkoeln.de
X-WR-CALDESC:Veranstaltungen für www.loftkoeln.de
BEGIN:VTIMEZONE
TZID:UTC
BEGIN:STANDARD
TZOFFSETFROM:+0000
TZOFFSETTO:+0000
TZNAME:UTC
DTSTART:20090101T000000
END:STANDARD
END:VTIMEZONE
BEGIN:VEVENT
DTSTART;TZID=UTC:20091120T203000
DTEND;TZID=UTC:20091120T203000
DTSTAMP:20260423T025800
CREATED:20171031T102846Z
LAST-MODIFIED:20171031T102846Z
UID:6250-1258749000-1258749000@www.loftkoeln.de
SUMMARY:UAKTI Flöten-Solo-Programm mit Matthias Ziegler
DESCRIPTION:Matthias Ziegler – Flöte \n\nDie Faszination\, die vom Klang der Flöte ausgeht\, wurde immer wieder mit Sagenfiguren wie derjenigen des brasilianischen ”Uakti” oder des griechischen ”Pan” und ”Marsyas” in Verbindung gebracht. Der in Zürich lebende Multiflötenspieler Matthias Ziegler illustriert diese Erzählung von Uakti und die Geschichte von Marsyas\, dem ersten Flötenspieler der griechischen Mythologie auf seiner Bassflöte. Ausgehend von Geschichten und aktuellen Ereignissen entstehen Kompositionen\, die wiederum Ausgangspunkt für ausgedehnte virtuose und klangintensive Improvisationen sind – die Geschichten werden somit im Konzert weitergesponnen. Hierfür verwendet Matthias Ziegler teils selber entwickelte Instrumente\, wie z.B. die Matusi-Flöte und die elektroakustisch verstärkte Bassflöte sowie Vierteltonflöten. Im breiten Spektrum des musikalischen Ausdrucks spiegeln sich seine vielseitigen Tätigkeitsbereiche: Von solistischen Verpflichtungen über Kammermusik und Konzerten mit dem amerikanischen Bassisten Mark Dresser zu Auftritten mit dem Collegium Novum Zürich\, George Gruntz und Pierre Favre. \nAusgedehnte Tourneen führten ihn durch Süd-\, Mittel- und Nordamerika\, Japan und Australien. Matthias Ziegler spielt eine Vierteltonflöte mit Brannen/Kingma System\, eine Kontrabassflöte von Kotato & Fukushima (Japan)\, eine Altflöte von Eva Kingma (Holland) sowie die von ihm selber entwickelte Matusi Flute.
URL:https://www.loftkoeln.de/event/uakti-floten-solo-programm-mit-matthias-ziegler/
END:VEVENT
END:VCALENDAR