BEGIN:VCALENDAR
VERSION:2.0
PRODID:-//www.loftkoeln.de - ECPv5.14.2.1//NONSGML v1.0//EN
CALSCALE:GREGORIAN
METHOD:PUBLISH
X-WR-CALNAME:www.loftkoeln.de
X-ORIGINAL-URL:https://www.loftkoeln.de
X-WR-CALDESC:Veranstaltungen für www.loftkoeln.de
BEGIN:VTIMEZONE
TZID:Europe/Berlin
BEGIN:DAYLIGHT
TZOFFSETFROM:+0100
TZOFFSETTO:+0200
TZNAME:CEST
DTSTART:20260329T010000
END:DAYLIGHT
BEGIN:STANDARD
TZOFFSETFROM:+0200
TZOFFSETTO:+0100
TZNAME:CET
DTSTART:20261025T010000
END:STANDARD
END:VTIMEZONE
BEGIN:VEVENT
DTSTART;TZID=Europe/Berlin:20260115T200000
DTEND;TZID=Europe/Berlin:20260115T200000
DTSTAMP:20260424T012125
CREATED:20251125T083353Z
LAST-MODIFIED:20251204T063718Z
UID:31489-1768507200-1768507200@www.loftkoeln.de
SUMMARY:Tritett | live recording
DESCRIPTION:Kai Winter – Altsaxophon\nKarl Krützmann – Gebläse\nGernot Bogumil – Taschentrompete\, E-Bass\nStefan Nordbeck – Bass\nDirk Schuwerack – Schlagzeug\n\n(english: see below) \nWeitere Informationen zu den Preisen\, Karten-Reservierungen und den Öffnungszeiten finden Sie hier.\n\n\nTRITETT verspricht keine fertigen und vorhersehbaren Produkte.\nTRITETT ist eine Gruppe\, die sich ohne Absprache auf musikalische Kommunikationsformen einläßt\,  und dabei eine Musik entwickelt\, die neue Hörerfahrungen ermöglicht. \nhttp://tritett.de \nTritett © Karl-Heinz Jardner\nLiner notes: CD TRITETT – Live aus dem Kölner LOFT:\nAus der Zeit gefallen. Pfiffig getanzt. Seit Jahren brauen TRITETT in vielen lustvollen Stunden eigene Echtzeit-Musik zusammen\, die in der Freiheit der Unschärfe gedeiht. Jedes Streben in die Vertikale der Verfeinerung\, die Perfektion der Tightness\, die Auffächerung harmonischer Konstruktionen oder die Kühnheit der Konzeption darf entfallen. Referenzen stapeln sich auf dem Tisch\, bleiben liegen\, fließen ein\, ohne zu beschweren.\nLeuchtende Taschentrompete\, eckiger No Wave\, freie battle horns.\nDiese Musik rechtfertigt sich nicht. Sie gehört dahin\, wo sie gespielt oder gehört wird.\nThomas Gläßer  \n\n\n\n\n\n\n\n  \n\nKai Winter – alto saxophone\nKarl Krützmann – wind instruments\nGernot Bogumil – pocket trumpet\, electric bass\nStefan Nordbeck – bass\nDirk Schuwerack – drums\n\n\nFurther information about prices\, ticket reservations and our opening times can be found here.\n\nTRITETT does not promise finished and predictable products.\nTRITETT is a group that engages in musical forms of communication without prior consultation\, thereby developing music that enables new listening experiences. \nhttp://tritett.de \nLiner notes: CD TRITETT – Live from Cologne’s LOFT:\nOut of time. Cleverly danced. For years\, TRITETT have been brewing their own real-time music in many joyful hours\, which thrives in the freedom of blurring boundaries. Any striving for vertical refinement\, perfection of tightness\, diversification of harmonic constructions\, or boldness of conception can be dispensed with. References pile up on the table\, remain there\, flow in without weighing things down.\nBright pocket trumpet\, angular no wave\, free battle horns.\nThis music does not justify itself. It belongs where it is played or heard.\nThomas Gläßer
URL:https://www.loftkoeln.de/event/tritett-live-recording-2/
END:VEVENT
END:VCALENDAR