BEGIN:VCALENDAR
VERSION:2.0
PRODID:-//www.loftkoeln.de - ECPv5.14.2.1//NONSGML v1.0//EN
CALSCALE:GREGORIAN
METHOD:PUBLISH
X-WR-CALNAME:www.loftkoeln.de
X-ORIGINAL-URL:https://www.loftkoeln.de
X-WR-CALDESC:Veranstaltungen für www.loftkoeln.de
BEGIN:VTIMEZONE
TZID:UTC
BEGIN:STANDARD
TZOFFSETFROM:+0000
TZOFFSETTO:+0000
TZNAME:UTC
DTSTART:20130101T000000
END:STANDARD
END:VTIMEZONE
BEGIN:VEVENT
DTSTART;TZID=UTC:20130910T203000
DTEND;TZID=UTC:20130910T203000
DTSTAMP:20260423T233618
CREATED:20170420T111036Z
LAST-MODIFIED:20170420T111036Z
UID:4743-1378845000-1378845000@www.loftkoeln.de
SUMMARY:Trio Pechlof/Weidner/Landfermann
DESCRIPTION:Kathrin Pechlof – Harfe\nChristian Weidner – sax.\nRobert Landfermann – bass \n\n 
URL:https://www.loftkoeln.de/event/trio-pechlofweidnerlandfermann/
END:VEVENT
END:VCALENDAR