BEGIN:VCALENDAR
VERSION:2.0
PRODID:-//www.loftkoeln.de - ECPv5.14.2.1//NONSGML v1.0//EN
CALSCALE:GREGORIAN
METHOD:PUBLISH
X-WR-CALNAME:www.loftkoeln.de
X-ORIGINAL-URL:https://www.loftkoeln.de
X-WR-CALDESC:Veranstaltungen für www.loftkoeln.de
BEGIN:VTIMEZONE
TZID:UTC
BEGIN:STANDARD
TZOFFSETFROM:+0000
TZOFFSETTO:+0000
TZNAME:UTC
DTSTART:20080101T000000
END:STANDARD
END:VTIMEZONE
BEGIN:VEVENT
DTSTART;TZID=UTC:20080414T203000
DTEND;TZID=UTC:20080414T203000
DTSTAMP:20260424T105038
CREATED:20180826T073412Z
LAST-MODIFIED:20180826T073517Z
UID:9250-1208205000-1208205000@www.loftkoeln.de
SUMMARY:Trio - Hasler / Hanschler / Heidtmann
DESCRIPTION:Gabriele Hasler – Stimme\nRoger Hanschel – Altsaxophon \nStefan Heidtmann – Piano\, Synthesizer \n\nDas Trio Hasler\, Hanschel\, Heidtmann tritt im Loft mit seinem anspruchsvollen\, spannungsgeladenen Programm eigener Werke auf. Stilistisch angesiedelt im Grenzbereich zeitgenössische Musik/Jazz und immer hochaktuell und außergewöhnlich in der Wahl der musikalischen Farben. \nGabriele Hasler: Studium u. a. am Berklee College of Music\, Boston\,USA (Schwerpunkt Komposition/Arrangement). Mehrfach für ihre Produktionen mit dem „Preis der deutschen Schallplattenkritik“ ausgezeichnet. Preisträgerin bei verschiedenen Wettbewerben in ganz Deutschland. Tourneen und Konzertreisen weltweit. Eigenes Plattenlabel „Foolish Music“. \nRoger Hanschel: Mitglied der Kölner Saxophon Mafia und Duopartner von Gabriele Hasler. Er profilierte sich darüber hinaus in unterschiedlichsten kammermusikalischen Zusammenhängen\, etwa in der Kombination Saxophon und Streichquartett\, in Zusammenarbeit mit Musikern des Ensemble Modern\, dem Frankfurt Contemporary Quartet oder wahlweise mit dem Auryn Quartett. Sein neues Quartett Roger Hanschels Heavy Rotation veröffentlichte vor kurzem die erste CD. \nStefan Heitdmann: absolvierte ein Klavierstudium an der Musikhochschule Köln. Später zunehmende Spezialisierung auf Jazz und Neue Musik. Mit dem Stefan Heidtmann Project featuring Gerd Dudek\, Reiner Winterschladen\, Dieter Manderscheid und Klaus Kugel Teilnehmer beim EURO-Jazz-Festival in Mexiko-City und Jazz a r t – Preisträger (Köln) im Jahre 2002. Mitwirkung an multimedialen Projekten mit Videokunst und offener Musik. Eigenes Plattenlabel „shaa-music“.
URL:https://www.loftkoeln.de/event/trio-hasler-hanschler-heidtmann/
END:VEVENT
END:VCALENDAR