BEGIN:VCALENDAR
VERSION:2.0
PRODID:-//www.loftkoeln.de - ECPv5.14.2.1//NONSGML v1.0//EN
CALSCALE:GREGORIAN
METHOD:PUBLISH
X-WR-CALNAME:www.loftkoeln.de
X-ORIGINAL-URL:https://www.loftkoeln.de
X-WR-CALDESC:Veranstaltungen für www.loftkoeln.de
BEGIN:VTIMEZONE
TZID:UTC
BEGIN:STANDARD
TZOFFSETFROM:+0000
TZOFFSETTO:+0000
TZNAME:UTC
DTSTART:20090101T000000
END:STANDARD
END:VTIMEZONE
BEGIN:VEVENT
DTSTART;TZID=UTC:20091115T203000
DTEND;TZID=UTC:20091115T203000
DTSTAMP:20260422T194542
CREATED:20171031T103708Z
LAST-MODIFIED:20171031T103708Z
UID:6253-1258317000-1258317000@www.loftkoeln.de
SUMMARY:Trio Graewe - Reijseger - Hemingway
DESCRIPTION:Georg Graewe – piano\nErnst Reijseger – cello\nGerry Hemingway – drums \n\nWie das Loft so feiert auch das Trio Graewe – Reijseger – Hemingway sein 20 jähriges Bestehen\, die erste Tournee war im März 1989\, das erste Konzert in Leuven/Belgien veranstaltet von Hugo DeCraen\, der auch auf dieser Novembertour wieder das erste Konzert in Antwerpen präsentiert. Zum ersten Mal spielte Graewe im LOFT am 9.November 1989 ohne Ernst Reijseger mit Gerry Hemingway. 2 Cds „Flex 27“ (teilweise) und „Saturn Cycle“ des Trios sind im LOFT enstanden. Nachdem Georg beim Jubiläumskonzert im September schon zu Gast war freuen wir uns auf dieses außergewöhnliche Trio das auf seiner Jubiläums Tour noch Konzerte in Antwerpen (De Singel)\, Bochum (Museum)\, Wien (Porgy&Bess)\, Amsterdam (BIM Huis) und Elmau (Schloss Elmau) gibt. Wir sagen herzlichen Glückwunsch zum Jubiläum!
URL:https://www.loftkoeln.de/event/trio-graewe-reijseger-hemingway/
END:VEVENT
END:VCALENDAR