BEGIN:VCALENDAR
VERSION:2.0
PRODID:-//www.loftkoeln.de - ECPv5.14.2.1//NONSGML v1.0//EN
CALSCALE:GREGORIAN
METHOD:PUBLISH
X-WR-CALNAME:www.loftkoeln.de
X-ORIGINAL-URL:https://www.loftkoeln.de
X-WR-CALDESC:Veranstaltungen für www.loftkoeln.de
BEGIN:VTIMEZONE
TZID:UTC
BEGIN:STANDARD
TZOFFSETFROM:+0000
TZOFFSETTO:+0000
TZNAME:UTC
DTSTART:20130101T000000
END:STANDARD
END:VTIMEZONE
BEGIN:VEVENT
DTSTART;TZID=UTC:20131101T203000
DTEND;TZID=UTC:20131101T203000
DTSTAMP:20260424T173730
CREATED:20170405T111413Z
LAST-MODIFIED:20170405T111413Z
UID:4608-1383337800-1383337800@www.loftkoeln.de
SUMMARY:Trio Facet und Zoubek / Fügemann / Huhn / Hübsch
DESCRIPTION:Trio Facet:\nJoris Rühl – cl.\nMaciej Sledziecki – guit.\nAdrian Myhr – bass \nPhilip Zoubek – piano\nElisabeth Fügemann – cello\nLeo Huhn – as.\nC.L. Hübsch – tuba \n\nFacet melieren ihre präparierten und teils umgebauten Instrumente in sich langsam entwickelnde Drones und Klangtexturen. Seit ihrer ersten Veröffentlichung mit dem Titel „conscious mental field recordings“ touren sie in Europa und arbeiten an ihrer zweiten Platte.\n„Insgesamt sehr feinsinnige\, sagen wir es ruhig: zärtliche Musik. Nach dem ersten Stück wartet man noch auf den Ausbruch. Es ist gut\, dass er nicht kommt.“ \nFelix Klopotek\, Stadtrevue Köln
URL:https://www.loftkoeln.de/event/trio-facet-und-zoubek-fugemann-huhn-hubsch/
END:VEVENT
END:VCALENDAR