BEGIN:VCALENDAR
VERSION:2.0
PRODID:-//www.loftkoeln.de - ECPv5.14.2.1//NONSGML v1.0//EN
CALSCALE:GREGORIAN
METHOD:PUBLISH
X-WR-CALNAME:www.loftkoeln.de
X-ORIGINAL-URL:https://www.loftkoeln.de
X-WR-CALDESC:Veranstaltungen für www.loftkoeln.de
BEGIN:VTIMEZONE
TZID:UTC
BEGIN:STANDARD
TZOFFSETFROM:+0000
TZOFFSETTO:+0000
TZNAME:UTC
DTSTART:20180101T000000
END:STANDARD
END:VTIMEZONE
BEGIN:VEVENT
DTSTART;TZID=UTC:20180107T203000
DTEND;TZID=UTC:20180107T203000
DTSTAMP:20260421T122537
CREATED:20171201T084406Z
LAST-MODIFIED:20171201T084407Z
UID:6850-1515357000-1515357000@www.loftkoeln.de
SUMMARY:TRILLMANN feat. Sebastian Sternal
DESCRIPTION:Fabian Willmann – sax\nJanning Trumann – trb\nStefan Schönegg – b\nEva Klesse – dr\n+ Sebastian Sternal – p \n\n© Dominik Asche\nEin junges Quartett in ungewöhnlicher Besetzung\, mit starken Persönlichkeiten und markantem Stilwillen. Zusammengefunden haben sich Trillmann im Herbst 2015\, nicht etwa daheim in Deutschland\, sondern in der Jazzmetropole New York\, genauer gesagt an der New York University. Stipendien des DAAD machten es möglich. \nReaktionsschnelle Beweglichkeit und ein feines Gespür für Details zeichnen Trillmanns Debütalbum aus\, das im August 2017 in Basel aufgenommen wurde. Sein Titel Foen spielt auf die Band-interne Energie an. \nTrillmann balanciert auf dem Hochseil zwischen Harmonien und Herausforderungen\, Transparenz und Verdichtung\, Ordnung und Chaos. Es ist aufregend wie sich die Charaktere immer wieder gegenseitig herausfordern oder aufstacheln\, ohne dabei in eine Art Wettkampf zu geraten. \nAm 7. Januar erweitert das Quartett erstmalig die Besetzung um Pianist Sebastian Sternal. \nwww.trillmann.net
URL:https://www.loftkoeln.de/event/trillmann-feat-sebastian-sternal/
END:VEVENT
END:VCALENDAR