BEGIN:VCALENDAR
VERSION:2.0
PRODID:-//www.loftkoeln.de - ECPv5.14.2.1//NONSGML v1.0//EN
CALSCALE:GREGORIAN
METHOD:PUBLISH
X-WR-CALNAME:www.loftkoeln.de
X-ORIGINAL-URL:https://www.loftkoeln.de
X-WR-CALDESC:Veranstaltungen für www.loftkoeln.de
BEGIN:VTIMEZONE
TZID:UTC
BEGIN:STANDARD
TZOFFSETFROM:+0000
TZOFFSETTO:+0000
TZNAME:UTC
DTSTART:20180101T000000
END:STANDARD
END:VTIMEZONE
BEGIN:VEVENT
DTSTART;TZID=UTC:20180526T203000
DTEND;TZID=UTC:20180526T203000
DTSTAMP:20260420T144014
CREATED:20180309T085111Z
LAST-MODIFIED:20180523T100443Z
UID:7804-1527366600-1527366600@www.loftkoeln.de
SUMMARY:TRIΔS 5 by Frank Gratkowski
DESCRIPTION:Das dreiteilige Konzertformat TRIΔS präsentiert an insgesamt neun Abenden Musik der Gegenwart\, erinnert an vergangene Highlights aus dem LOFT und schafft Ausblicke auf Zukünftiges. Hierfür konnten vier renommierte Musiker aus der über 28-jährigen Geschichte des LOFTs gewonnen werden\, um je drei Konzerte zu gestalten. \n© Kurt Rade\nFrank Gratkowski (geb. 1962) ist seit Jahren sowohl national als auch international eine der schillerndsten Figuren der Aktuellen Musik\, und kaum ein Künstler ist stärker mit der Geschichte des LOFTs verbunden. Seit den ersten Stunde ist er hier regelmäßig zu erleben (die zweite CD-Einspielung in der Geschichte des LOFT-Tonstudios ist Frank Gratkowskis legendäre „Artikulationen“ von 1991) und hat auf verschiedenster Art seine individuelle Klasse vorgestellt. Sowohl in der Solo Performance\, in Uraufführungen Neuer Musik\, der Interpretation der Musik von Lee Konitz oder im Konzert mit der Improvisations-Rockband Z-Country Paradise.\n2005 wurde er mit dem SWR-Jazzpreis ausgezeichnet. \nFrank Gratkowski zu seinem Vorhaben: “Das LOFT ist quasi mein musikalisches zu Hause. Man kann fast sagen\, hier bin ich aufgewachsen. In jedem Fall aber bin ich hier gewachsen. Mindestens 90 % meiner CD-Einspielungen wurden im LOFT aufgenommen.\nIch hab die drei Projekte für die TRIΔS-Reihe ausgewählt\, weil sie sehr unterschiedliche Aspekte meines Schaffens beleuchten. Mit Fo[u]r Alto habe ich zwar keinen so direkten Bezug zum LOFT wie mit Skein und meinem Quartett\, aber Köln und insbesondere das LOFT sind Grund für meine intensive Auseinandersetzung mit zeitgenössischer Musik und Kompostion. Improvisation und Komposition sind für mich wie Yin und Yang in der Musik. Das eine braucht und bereichert das andere. Für beide Seiten steht auch das LOFT.” \ngratkowski.com \n\nFO[U]R ALTO\n\nMikrotonale Musik für vier Altsaxophone \nFrank Gratkowski – Altsaxophon\, Tamtams und Klangschalen\,  Komposition\nFlorian Bergmann – Altsaxophon\, Tamtams und Klangschalen\nChristian Weidner – Altsaxophon\, Tamtams und Klangschalen\nBenjamin Weidekamp – Altsaxophon\, Tamtams und Klangschalen\n\n© Joerg Thieme\nFo[u]r Alto ist kein normales Saxophonquartett\, sondern die Vervierfachung des Altsaxophons als einheitlicher Klangkörper. Für das 2008 gegründete Ensemble habe ich Musik geschrieben\, bei der die Musiker quadrophonisch um das Publikum herum platziert sind. Für eine neue Komposition\, die ich anlässlich dieses Portraits geschrieben habe\, werden vier Gongs\, diverse Klangschalen\, sowie einige weitere kleine Instrumente zum Einsatz kommen. Die Klangspektren der Gongs und Klangschalen schaffen die harmonische Grundlage der Komposition.\nIn Originalbesetzung wird dies das erste Konzert von Fo[u]r Alto im LOFT sein\, worauf wir uns sehr freuen. \nwww.fouralto.com \n\nTRIΔS ist ein Projekt von Janning Trumann und 2nd FLOOR e.V.\nMit freundlicher Unterstützung \n          \n 
URL:https://www.loftkoeln.de/event/tri%ce%b4s-5-by-frank-gratkowski/
END:VEVENT
END:VCALENDAR