BEGIN:VCALENDAR
VERSION:2.0
PRODID:-//www.loftkoeln.de - ECPv5.14.2.1//NONSGML v1.0//EN
CALSCALE:GREGORIAN
METHOD:PUBLISH
X-WR-CALNAME:www.loftkoeln.de
X-ORIGINAL-URL:https://www.loftkoeln.de
X-WR-CALDESC:Veranstaltungen für www.loftkoeln.de
BEGIN:VTIMEZONE
TZID:UTC
BEGIN:STANDARD
TZOFFSETFROM:+0000
TZOFFSETTO:+0000
TZNAME:UTC
DTSTART:20180101T000000
END:STANDARD
END:VTIMEZONE
BEGIN:VEVENT
DTSTART;TZID=UTC:20180429T200000
DTEND;TZID=UTC:20180429T200000
DTSTAMP:20260420T070958
CREATED:20180303T094329Z
LAST-MODIFIED:20180329T082746Z
UID:7762-1525032000-1525032000@www.loftkoeln.de
SUMMARY:TRIΔS 3 by Lucas Leidinger & Thomas Sauerborn
DESCRIPTION:TRIΔS: Vergangenheit\, Gegenwart & Zukunft \nDas Kölner LOFT richtet im ersten Halbjahr 2018 einen Programmschwerpunkt auf das neue\, dreiteilige Konzertformat TRIΔS\, welches sich mit der bald 30–jährigen Erfolgsgeschichte dieser Spielstätte befasst. Der Fokus von TRIΔS liegt auf der künstlerischen Auseinandersetzung zwischen Jazz und frei-improvisierter Musik. Hierzu wurden drei international renommierte Kuratoren bzw. Kuratorenteams\, die dem LOFT eng verbunden sind\, eingeladen\, dreitägige Programme zu entwickeln: Frank Gratkowski\, Nils Wogram sowie das Kuratoren-Duo Lucas Leidinger & Thomas Sauerborn. \nIm Mittelpunkt der Konzerte steht der Dreisatz „These & Antithese -> Synthese – Vergangenheit & Gegenwart -> Zukunft“\, in welcher die Kuratoren die Entwicklung ihrer Musik mit der Entwicklung des LOFTs verbinden und vorstellen. Sie erhalten die Freiheit\, ihre Erlebnisse aus der hiesigen Konzertgeschichte wieder aufleben zu lassen\, diese in Kontrast zur gegenwärtigen musikalischen Arbeit zu setzen\, um letztendlich einen Ausblick auf aktuelle und richtungsweisende Musik zu geben. \nDen Auftakt zum dreiteiligen Konzertformat TRIΔS gestaltet im April das Duo Lucas Leidinger (*1988) und Thomas Sauerborn (*1987). Sie gehören zu der jüngeren Generation von MusikernInnen\, die im LOFT auftreten. Das Duo kuratiert ein Konzert mit den drei Altmeistern Michael Vatcher\, Dieter Manderscheid und Matthias Schubert\, tritt selbst im Duo auf\, präsentiert eigene Projekte (Lucas Leidinger Trio & Strings und Thomas Sauerborns KYIWI) und lädt u.a. Jozef Dumoulin und Anders Vestergaard aus Paris und Kopenhagen ins LOFT. \n  \n  \n  \nlucasleidinger.com\nwww.thomassauerborn.de \n \n\nDer abschließende dritte Abend stellt zwei gegenwärtige Projekte der beiden vor\, bei denen sie vor allem auch als Komponisten in Erscheinung treten. \nDas neue Quintett KYIWI von Thomas Sauerborn präsentiert brandneue Kompositionen des Bandleaders. \nThomas Sauerborn KYIWI:\nBastian Stein – Trompete\nSebastian Gille – Saxophon\nLucas Leidinger – Piano\nDavid Helm – Bass\nThomas Sauerborn – Schlagzeug \n\nLucas Leidinger’s TRIO & STRINGS verbindet die Verspieltheit eines Klavier-Trios mit der Eleganz eines klassischen Streichquartetts. Die CD „Lucas Leidinger Trio & Strings“ wurde von Christian Heck im LOFT aufgenommen und ist im Oktober 2016 auf Klaeng-Records erschienen. \n\nLucas Leidinger Trio & Strings:\nLucas Leidinger – Piano\nMatthias Nowak – Bass\nEtienne Nillessen – Schlagzeug\nALINDE QUARTETT:\nEugenia Ottaviano – 1. Violine\nGuglielmo Dandolo Marchesi – 2. Violine\nErin Kirby – Viola\nMoritz Benjamin Kolb – Violoncello \n \n  \nwww.alindequartett.com \n\nTRIΔS ist ein Projekt von Janning Trumann für 2nd FLOOR e.V.\nMit freundlicher Unterstützung \n        
URL:https://www.loftkoeln.de/event/tri%ce%b4s-3-by-lucas-leidinger-thomas-sauerborn/
END:VEVENT
END:VCALENDAR