BEGIN:VCALENDAR
VERSION:2.0
PRODID:-//www.loftkoeln.de - ECPv5.14.2.1//NONSGML v1.0//EN
CALSCALE:GREGORIAN
METHOD:PUBLISH
X-WR-CALNAME:www.loftkoeln.de
X-ORIGINAL-URL:https://www.loftkoeln.de
X-WR-CALDESC:Veranstaltungen für www.loftkoeln.de
BEGIN:VTIMEZONE
TZID:UTC
BEGIN:STANDARD
TZOFFSETFROM:+0000
TZOFFSETTO:+0000
TZNAME:UTC
DTSTART:20180101T000000
END:STANDARD
END:VTIMEZONE
BEGIN:VEVENT
DTSTART;TZID=UTC:20180427T200000
DTEND;TZID=UTC:20180427T200000
DTSTAMP:20260420T123726
CREATED:20180302T135512Z
LAST-MODIFIED:20180329T082731Z
UID:7735-1524859200-1524859200@www.loftkoeln.de
SUMMARY:TRIΔS 1 by Lucas Leidinger & Thomas Sauerborn
DESCRIPTION:TRIΔS: Vergangenheit\, Gegenwart & Zukunft \nDas Kölner LOFT richtet im ersten Halbjahr 2018 einen Programmschwerpunkt auf das neue\, dreiteilige Konzertformat TRIΔS\, welches sich mit der bald 30–jährigen Erfolgsgeschichte dieser Spielstätte befasst. Der Fokus von TRIΔS liegt auf der künstlerischen Auseinandersetzung zwischen Jazz und frei-improvisierter Musik. Hierzu wurden drei international renommierte Kuratoren bzw. Kuratorenteams\, die dem LOFT eng verbunden sind\, eingeladen\, dreitägige Programme zu entwickeln: Frank Gratkowski\, Nils Wogram sowie das Kuratoren-Duo Lucas Leidinger & Thomas Sauerborn. \nIm Mittelpunkt der Konzerte steht der Dreisatz „These & Antithese -> Synthese – Vergangenheit & Gegenwart -> Zukunft“\, in welcher die Kuratoren die Entwicklung ihrer Musik mit der Entwicklung des LOFTs verbinden und vorstellen. Sie erhalten die Freiheit\, ihre Erlebnisse aus der hiesigen Konzertgeschichte wieder aufleben zu lassen\, diese in Kontrast zur gegenwärtigen musikalischen Arbeit zu setzen\, um letztendlich einen Ausblick auf aktuelle und richtungsweisende Musik zu geben. \nDen Auftakt zum dreiteiligen Konzertformat TRIΔS gestaltet im April das Duo Lucas Leidinger (*1988) und Thomas Sauerborn (*1987). Sie gehören zu der jüngeren Generation von MusikernInnen\, die im LOFT auftreten. Das Duo kuratiert ein Konzert mit den drei Altmeistern Michael Vatcher\, Dieter Manderscheid und Matthias Schubert\, tritt selbst im Duo auf\, präsentiert eigene Projekte (Lucas Leidinger Trio & Strings und Thomas Sauerborns KYIWI) und lädt u.a. Jozef Dumoulin und Anders Vestergaard aus Paris und Kopenhagen ins LOFT. \nlucasleidinger.com\nwww.thomassauerborn.de \n \n\nLeidinger / Sauerborn Duo\nLucas Leidinger – Piano\nThomas Sauerborn – Schagzeug \nLucas Leidinger und Thomas Sauerborn werden am ersten Abend des TRIΔS Festivals im Duo auftreten\, welches im letzten Herbst durch ein spontanes Konzert im LOFT seinen Ursprung hat. \n\nSchubert / Manderscheid / Vatcher\nMatthias Schubert – Saxophon\nDieter Manderscheid – Bass\nMichael Vatcher – Schlagzeug \nDie zweite Konzerthälfte wird ein von ihnen kuratiertes Allstar-Trio der LOFT-Geschichte bestreiten. Der amerikanische Schlagzeuger Michael Vatcher trifft auf die Bass-Legende Dieter Manderscheid und den originellen Saxofonisten Matthias Schubert. \nhttps://de.wikipedia.org/wiki/Matthias_Schubert\nwww.dimand.de\nhttps://de.wikipedia.org/wiki/Michael_Vatcher \ncenter: Dieter Manderscheidt © Jean M. Laffitau ; right: Michael Vatcher © Dr. med. Karl-Heinz Krauskopf\n\nTRIΔS ist ein Projekt von Janning Trumann für 2nd FLOOR e.V.\nMit freundlicher Unterstützung \n          \n 
URL:https://www.loftkoeln.de/event/tri%ce%b4s-1-by-lucas-leidinger-thomas-sauerborn/
END:VEVENT
END:VCALENDAR