BEGIN:VCALENDAR
VERSION:2.0
PRODID:-//www.loftkoeln.de - ECPv5.14.2.1//NONSGML v1.0//EN
CALSCALE:GREGORIAN
METHOD:PUBLISH
X-WR-CALNAME:www.loftkoeln.de
X-ORIGINAL-URL:https://www.loftkoeln.de
X-WR-CALDESC:Veranstaltungen für www.loftkoeln.de
BEGIN:VTIMEZONE
TZID:UTC
BEGIN:STANDARD
TZOFFSETFROM:+0000
TZOFFSETTO:+0000
TZNAME:UTC
DTSTART:20130101T000000
END:STANDARD
END:VTIMEZONE
BEGIN:VEVENT
DTSTART;TZID=UTC:20131115T203000
DTEND;TZID=UTC:20131115T203000
DTSTAMP:20260425T123939
CREATED:20170405T104843Z
LAST-MODIFIED:20170405T104843Z
UID:4597-1384547400-1384547400@www.loftkoeln.de
SUMMARY:tré
DESCRIPTION:Thomas Lüthi.- ts.\, ss.\nBernhard Bamert.- trb.\nLukas Mantel – drums \n\nSelten hat man ein Trio so unverkrampft und locker drauflos spielen hören wie tré aus Zürich. Mit viel Schalk im Nacken treiben tré Schabernack mit ganz unterschiedlichen Stilen\, ausgeklügelte Arrangements wechseln ab mit Ausbrüchen ins Freie\, mal wird frech geröhrt\, mal spröd sinniert\, Elitäres und Populäres wird mit unverkrampfter Nonchalance durcheinander gerührt. \nFunkiges\, Feejazzpassagen\, lamentierende Kantilenen\, Solosaxofon-Exkursionen\, kokette volkstümlich angehauchte Themen\, all dies findet sich in der Musik von tré.
URL:https://www.loftkoeln.de/event/tre/
END:VEVENT
END:VCALENDAR