BEGIN:VCALENDAR
VERSION:2.0
PRODID:-//www.loftkoeln.de - ECPv5.14.2.1//NONSGML v1.0//EN
CALSCALE:GREGORIAN
METHOD:PUBLISH
X-WR-CALNAME:www.loftkoeln.de
X-ORIGINAL-URL:https://www.loftkoeln.de
X-WR-CALDESC:Veranstaltungen für www.loftkoeln.de
BEGIN:VTIMEZONE
TZID:UTC
BEGIN:STANDARD
TZOFFSETFROM:+0000
TZOFFSETTO:+0000
TZNAME:UTC
DTSTART:20090101T000000
END:STANDARD
END:VTIMEZONE
BEGIN:VEVENT
DTSTART;TZID=UTC:20091112T203000
DTEND;TZID=UTC:20091112T203000
DTSTAMP:20260422T161952
CREATED:20171101T071024Z
LAST-MODIFIED:20171101T071024Z
UID:6256-1258057800-1258057800@www.loftkoeln.de
SUMMARY:Transversale: Trio MUSAI
DESCRIPTION:Dusica Cajlan-Wissel – Piano\nAnnette Maye – Klarinetten\nMalina Mantcheva – Geige \n\nDie Musikerinnen des Trio „Musai“ kommen aus drei Ländern: aus Bulgarien\, dem ehemaligen Jugoslawien und Deutschland. Ihre musikalische Ausbildung erhielten sie in der Alten Musik\, Klassik und im Jazz und ihr Interesse an unterschiedlichen Einflüssen und Mischungen hat sie zusammengeführt und drückt sich in ihrem gemeinsamen Musizieren aus. Das Trio hat sich in neuen Ausdrucksformen und zeitgenössischer Musik gefunden und begibt sich auf eine Expedition auf der „Transversale“ von Bjarosa (Weissrussland) über Sofia (Bulgarien) bis nach Köln (Deutschland).Die Kompositionen von Oxana Omeltschuk sind musikalische Bilder mit historischen Perspektiven\, die mit äußerster Sparsamkeit der Klänge und einer raffinierten Kunst der Instrumentation dargestellt werden. Der Zuhörer muss sich auf rasante Stil Wechsel und provozierende Kontextverschiebungen gefasst machen. Der Komponist Ivan Shekov beherrscht das Vokabular moderner Musik und hat eine eigene sinnliche Tonsprache\, die sich durch profundes Handwerk und Ideenreichtum auszeichnet. Mit dem 2006 uraufgeführten Werk „Mururoa“ des Komponisten Georg Wissel bewegt sich das Trio an der Schnittstelle zwischen Neuer Musik und Improvisation. Die Komposition bezieht sich inhaltlich auf französische Atomtests\, welche zwischen 1966 und 1996 auf dem Mururoa-Atoll stattgefunden haben. Sie bildet mit ihrem ruhigen Gestus in vielerlei Hinsicht einen beabsichtigten Kontrast zu den beiden anderen Stücken in diesem Konzertprogramm.
URL:https://www.loftkoeln.de/event/transversale-trio-musai/
END:VEVENT
END:VCALENDAR