BEGIN:VCALENDAR
VERSION:2.0
PRODID:-//www.loftkoeln.de - ECPv5.14.2.1//NONSGML v1.0//EN
CALSCALE:GREGORIAN
METHOD:PUBLISH
X-WR-CALNAME:www.loftkoeln.de
X-ORIGINAL-URL:https://www.loftkoeln.de
X-WR-CALDESC:Veranstaltungen für www.loftkoeln.de
BEGIN:VTIMEZONE
TZID:UTC
BEGIN:STANDARD
TZOFFSETFROM:+0000
TZOFFSETTO:+0000
TZNAME:UTC
DTSTART:20140101T000000
END:STANDARD
END:VTIMEZONE
BEGIN:VEVENT
DTSTART;TZID=UTC:20140205T203000
DTEND;TZID=UTC:20140205T203000
DTSTAMP:20260420T151547
CREATED:20170323T135758Z
LAST-MODIFIED:20170323T135758Z
UID:4502-1391632200-1391632200@www.loftkoeln.de
SUMMARY:TRANSLOCAL: FAS TRIO (MEX) plus FOSSILE 3 (D)
DESCRIPTION:FAS TRIO (MEX):\nRemi Alvarez – reeds\nDavid Sanchez – double bass\nJorgé Fernandez – drums and percussion \nFOSSILE3 TRIO (GER):\nRudi Mahall – bass clarinet\nSebastian Gramss – double bass\nEtienne Nillesen – drums and percussion \n\n3 mexikanische und 3 deutsche Musiker erstmals zusammen auf Tour. \nDie beiden Kontrabassisten David Sanchez und Sebastian Gramss (ECHO 2013) kennen sich seit Gramss´Besuch in Mexiko 2011 mit der Gruppe Underkarl. Bei der BASSMASSE\, dem 50 köpfigen  Kontrabassorchester\, setzten sie ihre Zusammenarbeit 2012 zusammen mit dem Altmeister Barre Phillips fort. \nJetzt haben die Beiden mit TRANSLOCAL eine völlig neue Kooperation gestartet und treffen mit ihren Trios miteinander und aufeinander….. \n1. Set: Beide Gruppen werden separat als Trio auftreten… \nIm 2. Set geht´s dann als Doppeltrio zur Sache: GERMEX statt TEXMEX: \nFAS TRIO (MEX) Das FAS Trio aus Mexiko City ist DIE herausragende  Gruppe in der aktuellen mexikanischen Jazzszene. Free Jazz\, Improvisierte Musik und orginäre mexikanische Elemente finden sich in der Musik des Trios wieder. 2012 erschien die letzte\, international beachtete CD „CHIMECO“. \nPresse:\n„… improvisations are well paced and inherently logical\, each idea unfolding leisurely\, developed then discarded\, occasionally climaxing in ecstatic skronks\, but never for long.“ \nTHE NEW YORK CITY JAZZ RECORD \nFOSSILE3 TRIO (GER Lassen Sie sich nicht vom Namen dieser Band täuschen: Was Sie hier erwartet ist in keiner Weise »fossil« oder antiquiert und veraltet. Im Gegenteil: Die Musiker aus Köln und Berlin nehmen sich der alt ehrwürdigen Jazztradition an und transportieren sie ins Hier und Jetzt. \nKurz und gut\, kraftvoll und melodisch\, sehr lebendig und alles andere als fossil. \nPresse: \n“ ….erdige Musik mit griffigen Melodien von der europäischen Jazzanvantgarde“\n(Der Spiegel) \n„Rudi Mahall + Sebastian Gramss: Das Gipfeltreffen der tiefen Töne“\n(Jazzthetik)
URL:https://www.loftkoeln.de/event/translocal-fas-trio-mex-plus-fossile-3-d/
END:VEVENT
END:VCALENDAR