BEGIN:VCALENDAR
VERSION:2.0
PRODID:-//www.loftkoeln.de - ECPv5.14.2.1//NONSGML v1.0//EN
CALSCALE:GREGORIAN
METHOD:PUBLISH
X-WR-CALNAME:www.loftkoeln.de
X-ORIGINAL-URL:https://www.loftkoeln.de
X-WR-CALDESC:Veranstaltungen für www.loftkoeln.de
BEGIN:VTIMEZONE
TZID:UTC
BEGIN:STANDARD
TZOFFSETFROM:+0000
TZOFFSETTO:+0000
TZNAME:UTC
DTSTART:20140101T000000
END:STANDARD
END:VTIMEZONE
BEGIN:VEVENT
DTSTART;TZID=UTC:20140208T203000
DTEND;TZID=UTC:20140208T203000
DTSTAMP:20260420T163907
CREATED:20170323T135102Z
LAST-MODIFIED:20170323T135102Z
UID:4491-1391891400-1391891400@www.loftkoeln.de
SUMMARY:Tobias Meinhart Quartett: „In Between“
DESCRIPTION:Tobias Meinhart – sax.\, cl.\nYago Vazquez – piano\, Rhodes\nPhil Donkin – bass\n Jesse Simpson – drums \n\nDas JazzThing Magazin bezeichnet ihn als „eines der grössten deutschen Talente am Tenorsaxofon“ (9/13). Nach seinem vielbeachteten Debut in der „Next Generation“-­‐Serie\, gewann Tobias Meinhart 2012 den renommierten „Best Soloist“ Award am Int. Jazzfestival in Getxo\, Spanien. Die neue Cd des in den USA lebenden Saxophonisten atmet den Geist der pulsierenden Jazz-­‐ Metropole New York und verbindet sie mit Singer-­‐/Songwriter Elementen. Beeinflusst durch die Musik von Songwritern wie Elliot Smith\, Sophie Hunger oder Becca Stevens hat Tobias Meinhart ein neues Programm mit persönlicher Note geschrieben. Auch Jazzgrössen wie Miles\, Shorter oder Lovano haben ihre Handschrift im Bandsound hinterlassen. \,In Between’ entstand kurz bevor Tobias Meinhart zurück nach New York gezogen ist. Viele Stücke reflektieren das Pendeln zwischen den Kontinenten und den sich daraus ergebenden Schwierigkeiten. Es gibt freiere Passagen wie in ‚Planes’ -­‐ geschrieben während eines Transatlantikflugs-­‐ bei der Harmonien und Melodien in einen losen Zusammenhang gestellt werden. Dem gegenüber stehen groovige Songs wie ‚Don’t blow up the planet’ bei dem das Rhodes anstelle des Klaviers zum Einsatz kommt. Für diese Tour bringt Tobias Meinhart seine amerikanische Working-­‐Band mit nach Europa -­‐ die eingespielte Rhythm-­‐Section vereint einige der bedeutendsten Newcomer der New Yorker Szene. Bassist Phil Donkin ist sowohl in New York als auch Europa ein viel gefragter Sideman und spielt regelmässig mit Jazzgrössen wie Kurt Rosenwinkel. Auch der in San Francisco aufgewachsene Drummer Jesse Simpson spielt trotz seiner erst 24 Jahren bereits mit Stars wie John Abercrombie und Marc Copland. Pianist Yago Vazquez stammt ursprünglich aus Galizien\, studierte mit einem Stipendium an der renommierten „New School“ und tritt seitdem mit diversen New Yorker Bands auf\, ua. mit Billy Harper\, dem Coltrane Bassisten Reggie Workman und der amerikanischen Sängerin Rachel Brotman\, mit der er gerade eine US-­‐Tour bestritten hat.
URL:https://www.loftkoeln.de/event/tobias-meinhart-quartett-%e2%80%9ein-between%e2%80%9c/
END:VEVENT
END:VCALENDAR