BEGIN:VCALENDAR
VERSION:2.0
PRODID:-//www.loftkoeln.de - ECPv5.14.2.1//NONSGML v1.0//EN
CALSCALE:GREGORIAN
METHOD:PUBLISH
X-WR-CALNAME:www.loftkoeln.de
X-ORIGINAL-URL:https://www.loftkoeln.de
X-WR-CALDESC:Veranstaltungen für www.loftkoeln.de
BEGIN:VTIMEZONE
TZID:Europe/Berlin
BEGIN:DAYLIGHT
TZOFFSETFROM:+0100
TZOFFSETTO:+0200
TZNAME:CEST
DTSTART:20260329T010000
END:DAYLIGHT
BEGIN:STANDARD
TZOFFSETFROM:+0200
TZOFFSETTO:+0100
TZNAME:CET
DTSTART:20261025T010000
END:STANDARD
END:VTIMEZONE
BEGIN:VEVENT
DTSTART;TZID=Europe/Berlin:20260427T200000
DTEND;TZID=Europe/Berlin:20260427T200000
DTSTAMP:20260421T094641
CREATED:20260304T064121Z
LAST-MODIFIED:20260405T144218Z
UID:32339-1777320000-1777320000@www.loftkoeln.de
SUMMARY:Tobias Meinhart Quartet +special guest: Seamus Blake - Light & Shadow | live recording
DESCRIPTION:  \n\nTobias Meinhart – Tenorsaxophon\nEden Ladin – Piano\nJoe Martin – Bass\nMark Whitfield Jr. – Schlagzeug \nspecial guest: Seamus Blake – Saxophon \n\n\n(english: see below) \nWeitere Informationen zu den Preisen\, Karten-Reservierungen und den Öffnungszeiten finden Sie hier.\n\n\n\nTobias Meinhart Quartet: Light & Shadow © Mariana Meraz ; Seamus Blake © Gerhard Richter\nDer in Brooklyn lebende Saxophonist und Komponist Tobias Meinhart zählt zu den markantesten Stimmen des zeitgenössischen Jazz. Ausgezeichnet als Rising Starim DownBeat Critics Poll\, verbindet er in seiner Musik die Energie der New Yorker Szene mit europäischer Klangästhetik\, erzählerischer Tiefe und einem ausgeprägten Groove-Gefühl.\nMit seinem aktuellen Projekt Light & Shadowpräsentiert Meinhart ein Quartett von außergewöhnlicher musikalischer Präsenz. Pianist Eden Ladin\, Bassist Joe Martin und Schlagzeuger Mark Whitfield Jr. gehören zur ersten Liga des internationalen Jazz und haben mit Künstlern wie Brad Mehldau\, Kurt Rosenwinkel\, Kenny Garrett oder Terence Blanchard gearbeitet. Gemeinsam entsteht eine offene\, dynamische Musik\, die Raum für lyrische Momente ebenso lässt wie für kraftvolle Improvisation.\nLight & Shadow steht für Kontraste: klare Melodien treffen auf komplexe rhythmische Strukturen\, intime Klangfarben auf urbane Energie. Das Quartett entfaltet live eine dichte\, atmende Klangsprache – modern\, beweglich und direkt im Kontakt mit dem Publikum. Ein Konzert\, das Spannung aufbaut\, Geschichten erzählt und den Jazz als lebendige Gegenwartsmusik erfahrbar macht. \nhttps://www.tobiasmeinhart.com/ \n\nhttps://seamusblake.com/ \n\nhttps://www.edenladin.com/ \n\nPressestimmen (Auswahl): \n„Das größte deutsche Talent am Tenorsaxophon.“ \nJazzThing\n\n„Unser Mann im Big Apple!“\nSüddeutsche Zeitung\n\n„Commanding!“ ★★★★\nDownBeat\n\n„An elegant Rollins-esque dialogue\, packed with high-wire playing!“\nJazzwise \n\n\nKann so ähnlich klingen: \n\n\n\n\n\n\n\n\nTobias Meinhart – tenor saxophone\nEden Ladin – piano\nJoe Martin – bass\nMark Whitfield Jr. – drums  \nspecial guest: Seamus Blake – saxophone\nFurther information about prices\, ticket reservations and our opening times can be found here.\n\n\n\n\nBrooklyn-based saxophonist and composer Tobias Meinhart is one of the most distinctive voices in contemporary jazz. A Rising Star in the DownBeat Critics Poll\, his music blends the rhythmic energy of New York with narrative depth\, melodic clarity\, and a strong sense of groove.\nWith Light & Shadow\, Meinhart leads a quartet of exceptional musical presence\, featuring pianist Eden Ladin\, bassist Joe Martin\, and drummer Mark Whitfield Jr. – musicians known for their work with artists such as Brad Mehldau\, Kurt Rosenwinkel\, Kenny Garrett\, and Terence Blanchard. Together\, they create an open and dynamic sound that moves fluidly between lyrical intimacy and powerful improvisation.\nLight & Shadow thrives on contrast: clear melodies meet complex rhythms; subtle textures collide with urban energy. On stage\, the quartet delivers a vivid\, breathing sound world — modern\, agile\, and deeply connected to the audience. A concert that builds tension\, tells stories\, and presents jazz as a living\, contemporary art form. \nhttps://www.tobiasmeinhart.com/ \nhttps://www.edenladin.com/ \n\nPress (selection): \n“The greatest German talent on the tenor saxophone.”\nJazzThing \n“Our man in the Big Apple!”\nSüddeutsche Zeitung \n„Commanding!“ ★★★★\nDownBeat \n„An elegant Rollins-esque dialogue\, packed with high-wire playing!“\nJazzwise
URL:https://www.loftkoeln.de/event/tobias-meinhart-quartet-light-shadow/
END:VEVENT
END:VCALENDAR