BEGIN:VCALENDAR
VERSION:2.0
PRODID:-//www.loftkoeln.de - ECPv5.14.2.1//NONSGML v1.0//EN
CALSCALE:GREGORIAN
METHOD:PUBLISH
X-WR-CALNAME:www.loftkoeln.de
X-ORIGINAL-URL:https://www.loftkoeln.de
X-WR-CALDESC:Veranstaltungen für www.loftkoeln.de
BEGIN:VTIMEZONE
TZID:UTC
BEGIN:STANDARD
TZOFFSETFROM:+0000
TZOFFSETTO:+0000
TZNAME:UTC
DTSTART:20140101T000000
END:STANDARD
END:VTIMEZONE
BEGIN:VEVENT
DTSTART;TZID=UTC:20140619T203000
DTEND;TZID=UTC:20140619T203000
DTSTAMP:20260421T112005
CREATED:20170322T133428Z
LAST-MODIFIED:20170322T133428Z
UID:4402-1403209800-1403209800@www.loftkoeln.de
SUMMARY:Tobias Hoffmann Trio + Spezial Gast: Tobias Christl
DESCRIPTION:Tobias Hoffmann – guit.\nFrank Schönhofer – bass\nEtienne Nillesen – dr. \n+ Tobias Christl – voice \n\nDas Tobias Hoffmann Trio sorgt zur Zeit mit seinem neuen Album „11 Famous Songs Tenderly Messed Up“ für Furore. Dieses wurde veröffentlicht auf Klaeng Records\, dem brandneuen Label des Klaeng Kollektiv Köln. Die aktuelle Ausgabe der JazzThing schreibt: „Gäbe es hier Sterne zur Bewertung\, man müsste Tobias Hoffmann das Universum zu Füssen legen.“ Im Audiomagazin Fidelity schreibt Hans-Jürgen Schaal: „Auf seinem neuen Trio Album lässt Tobias Hoffmann raus\, was wirklich in ihm steckt.“ und im Magazin Gitarre & Bass wurde die Platte zum Album des Monats gekürt. Im Loft präsentiert das Trio Stücke vom neuen Album und hat sich für die zweite Konzerthälfte mit dem Sänger Tobias Christl den perfekten Gast eingeladen. Die beiden Tobiasse verbindet eine jahrelange Freundschaft in denen sie in unzähligen Projekten zusammen gearbeitet haben und ihrer Liebe zum schrulligen\, dreckigen Garagensound gefrönt haben. Man darf gespannt sein auf die Liedauswahl dieses Abends. Famous Songs Tenderly Messed Up!
URL:https://www.loftkoeln.de/event/tobias-hoffmann-trio-spezial-gast-tobias-christl/
END:VEVENT
END:VCALENDAR