BEGIN:VCALENDAR
VERSION:2.0
PRODID:-//www.loftkoeln.de - ECPv5.14.2.1//NONSGML v1.0//EN
CALSCALE:GREGORIAN
METHOD:PUBLISH
X-WR-CALNAME:www.loftkoeln.de
X-ORIGINAL-URL:https://www.loftkoeln.de
X-WR-CALDESC:Veranstaltungen für www.loftkoeln.de
BEGIN:VTIMEZONE
TZID:Europe/Berlin
BEGIN:DAYLIGHT
TZOFFSETFROM:+0100
TZOFFSETTO:+0200
TZNAME:CEST
DTSTART:20260329T010000
END:DAYLIGHT
BEGIN:STANDARD
TZOFFSETFROM:+0200
TZOFFSETTO:+0100
TZNAME:CET
DTSTART:20261025T010000
END:STANDARD
END:VTIMEZONE
BEGIN:VEVENT
DTSTART;TZID=Europe/Berlin:20260205T200000
DTEND;TZID=Europe/Berlin:20260205T200000
DTSTAMP:20260424T104532
CREATED:20260104T120847Z
LAST-MODIFIED:20260203T083804Z
UID:31729-1770321600-1770321600@www.loftkoeln.de
SUMMARY:VERSCHOBEN: Tobias Christl WILDERN
DESCRIPTION:das Konzert muss auf einen späteren Termin verschoben werden! \n\nthe concert hast to be postponed to a later date \n  \n\n 
URL:https://www.loftkoeln.de/event/tobias-christl-wildern-2/
END:VEVENT
END:VCALENDAR