BEGIN:VCALENDAR
VERSION:2.0
PRODID:-//www.loftkoeln.de - ECPv5.14.2.1//NONSGML v1.0//EN
CALSCALE:GREGORIAN
METHOD:PUBLISH
X-WR-CALNAME:www.loftkoeln.de
X-ORIGINAL-URL:https://www.loftkoeln.de
X-WR-CALDESC:Veranstaltungen für www.loftkoeln.de
BEGIN:VTIMEZONE
TZID:Europe/Berlin
BEGIN:DAYLIGHT
TZOFFSETFROM:+0100
TZOFFSETTO:+0200
TZNAME:CEST
DTSTART:20250330T010000
END:DAYLIGHT
BEGIN:STANDARD
TZOFFSETFROM:+0200
TZOFFSETTO:+0100
TZNAME:CET
DTSTART:20251026T010000
END:STANDARD
END:VTIMEZONE
BEGIN:VEVENT
DTSTART;TZID=Europe/Berlin:20250306T200000
DTEND;TZID=Europe/Berlin:20250306T200000
DTSTAMP:20260423T174854
CREATED:20250113T084104Z
LAST-MODIFIED:20250203T091028Z
UID:28712-1741291200-1741291200@www.loftkoeln.de
SUMMARY:theconsistencyofdestruction
DESCRIPTION:  \nPascal Klewer – Trompete & Komposition\nFelix Hauptmann – Piano\, Synthesizer\, präpariertes Piano\nRoger Kintopf – Bass\nFlorian Herzog – Bass\nLeif Berger – Schlagzeug \n\n(english: see below) \nWeitere Informationen zu den Preisen\, Karten-Reservierungen und den Öffnungszeiten finden Sie hier. \ntheconsistencyofdestruction © Florian Fries\ntheconsistencyofdestruction erforscht und experimentiert mit Strukturen\, Polyrhythmik\, Dichte und Klang. Die Musik des Kölner Ensembles bewegt sich an den Grenzen der Avantgarde\, Improvisierten Musik und Neuen Musik. Die intensiv ausgearbeiteten Stücke\, Vorgaben und Konzepte werden kontinuierlich hinterfragt\, dekonstruiert und neu zusammengefügt. Das Ergebnis ist eine lebendige\, emotionale Klangwelt\, die sich jeder konventionellen Kategorisierung entzieht. \nDie Band hat bereits vier Studioalben auf stssts records veröffentlicht: nowigetwhypeoplekillthemselves\, beats. theconsistencyofdestruction\, und ennui. Darüber hinaus präsentierte sie eine einwöchige Live-Übertragung ihres Forschungsprozesses. \n\n\nPresse:\n \n\n\n„Widerspruch wird konsequent erzeugt und ausgehalten\, wider Tonalität und Harmonie zugunsten künstlerischer Freiheit. Postmodern gesprochen: Was vermeintlich zusammengehört\, wird dekonstruiert\, zerlegt und neu zusammengefügt\, zwanglos kombiniert\, synthetisiert mit Hilfe von Synthesizern.“\nSaarländische Zeitung: \n„Die Konzepte wirken ambitioniert und ausgetüftelt. Trotz aller akribischen Detailschärfe wirkt die Musik kaum akademisch-kühl\, sondern lebendig und zuweilen emotional.“\nFrankfurter Allgemeine Zeitung \n\n\nKlingt so: \n\n\n\n\n\nPascal Klewer – trumpet & composition\nFelix Hauptmann – piano\, synthesizer\, prepared piano\nRoger Kintopf – bass\nFlorian Herzog – bass\nLeif Berger – drums \nFurther information about prices\, ticket reservations and our opening times can be found here. \n\ntheconsistencyofdestruction explores and experiments with structures\, polyrhythms\, density and sound. The music of the Cologne-based ensemble moves at the boundaries of avant-garde\, improvised music and new music. The intensively elaborated pieces\, specifications and concepts are continuously questioned\, deconstructed and reassembled. The result is a lively\, emotional world of sound that defies conventional categorization. \nThe band has already released four studio albums on stssts records: nowigetwhypeoplekillthemselves\, beats.\, theconsistencyofdestruction\, and ennui. They also presented a week-long live broadcast of their research process. \n\nPress: \n“Contradiction is consistently generated and endured\, against tonality and harmony in favor of artistic freedom. In postmodern terms: What supposedly belongs together is deconstructed\, disassembled and reassembled\, casually combined\, synthesized with the help of synthesizers.”\nSaarländische Zeitung: \n“The concepts seem ambitious and ingenious. Despite the meticulous attention to detail\, the music is hardly academic and cool\, but lively and at times emotional.”\nFrankfurter Allgemeine Zeitung
URL:https://www.loftkoeln.de/event/theconsistencyofdestruction-2/
END:VEVENT
END:VCALENDAR