BEGIN:VCALENDAR
VERSION:2.0
PRODID:-//www.loftkoeln.de - ECPv5.14.2.1//NONSGML v1.0//EN
CALSCALE:GREGORIAN
METHOD:PUBLISH
X-WR-CALNAME:www.loftkoeln.de
X-ORIGINAL-URL:https://www.loftkoeln.de
X-WR-CALDESC:Veranstaltungen für www.loftkoeln.de
BEGIN:VTIMEZONE
TZID:Europe/Berlin
BEGIN:DAYLIGHT
TZOFFSETFROM:+0100
TZOFFSETTO:+0200
TZNAME:CEST
DTSTART:20220327T010000
END:DAYLIGHT
BEGIN:STANDARD
TZOFFSETFROM:+0200
TZOFFSETTO:+0100
TZNAME:CET
DTSTART:20221030T010000
END:STANDARD
END:VTIMEZONE
BEGIN:VEVENT
DTSTART;TZID=Europe/Berlin:20220612T200000
DTEND;TZID=Europe/Berlin:20220612T200000
DTSTAMP:20260424T025112
CREATED:20220503T104336Z
LAST-MODIFIED:20221020T143054Z
UID:20519-1655064000-1655064000@www.loftkoeln.de
SUMMARY:The Poets' Sounds | live recording & livestream
DESCRIPTION:sprechbohrer:\nSigrid Sachse\, Harald Muenz\, Georg Sachse \nMiia Toivio (Finnland)\nTone Avenstroup (Norwegen)\nMorten Søndergaard (Dänemark)\nKatalin Ladik (Ungarn)\nEduard Escoffet (Spanien/Katalonien) \nInformationen zu Eintrittspreisen\, Karten-Reservierungen und den Öffnungszeiten finden Sie hier.\n►Die Veranstaltung wird zusätzlich im livestream über YouTube zu verfolgen sein.\nDirekt zum livestream:\n\n\n\n(english: see below) \n\n© Natalia Reich\nThe Poets‘ Sounds kommen aus einem Niemandsland\, das keine Grenzen kennt: Sie sind sowohl Literatur als auch Musik\, wechseln nicht nur in einem Atemzug die Sprache\, sondern können sie auch neu erfinden. Mit einem Wort: Sie sind ein Experiment\, das sechts internationale Autorinnen und Autoren zusammen mit dem Kölner SprachKunstTrio sprechbohrer wagen. Miia Toivio (Finnland)\, Tone Avenstroup (Norwegen)\, Morten Søndergaard (Dänemark)\, Katalin Ladik (Ungarn)\, Eduard Escoffet (Spanien/Katalonien) und Elisabeth Wandeler-Deck (Schweiz) komponieren je ein Stück für drei Sprechstimmen\, die vom Trio sprechbohrer interpretiert werden. \nweitere Informationen unter:\nhttps://poetssounds.lettretage.de \n\nsprechbohrer:\nSigrid Sachse\, Harald Muenz\, Georg Sachse \nMiia Toivio (Finland)\nTone Avenstroup (Norway)\nMorten Søndergaard (Denmakr)\nKatalin Ladik (Hungary)\nEduard Escoffet (Spain / Catalunya) \nInformation about prices\, ticket reservations and our opening times can be found here. \n►The performance will also be livestreamed on YouTube.\nTake me directly to the livestream:\n\n \n \nThe Poets‘ Sounds come from a no-man’s land that knows no boundaries: they are both literature and music\, not only changing language in the same breath\, but also capable of reinventing it. In a word\, they are an experiment that six international authors are venturing together with the Cologne-based SprachKunstTrio sprechbohrer. Miia Toivio (Finland)\, Tone Avenstroup (Norway)\, Morten Søndergaard (Denmark)\, Katalin Ladik (Hungary)\, Eduard Escoffet (Spain/Catalonia) and Elisabeth Wandeler-Deck (Switzerland) each compose a piece for three speaking voices\, which will be interpreted by the trio sprechbohrer. \nmore information:\nhttps://poetssounds.lettretage.de
URL:https://www.loftkoeln.de/event/the-poets-sounds/
END:VEVENT
END:VCALENDAR