BEGIN:VCALENDAR
VERSION:2.0
PRODID:-//www.loftkoeln.de - ECPv5.14.2.1//NONSGML v1.0//EN
CALSCALE:GREGORIAN
METHOD:PUBLISH
X-WR-CALNAME:www.loftkoeln.de
X-ORIGINAL-URL:https://www.loftkoeln.de
X-WR-CALDESC:Veranstaltungen für www.loftkoeln.de
BEGIN:VTIMEZONE
TZID:UTC
BEGIN:STANDARD
TZOFFSETFROM:+0000
TZOFFSETTO:+0000
TZNAME:UTC
DTSTART:20160101T000000
END:STANDARD
END:VTIMEZONE
BEGIN:VEVENT
DTSTART;TZID=UTC:20160413T203000
DTEND;TZID=UTC:20160413T203000
DTSTAMP:20260425T161356
CREATED:20160413T183000Z
LAST-MODIFIED:20170223T121957Z
UID:1004-1460579400-1460579400@www.loftkoeln.de
SUMMARY:The Music Of Keith Copeland
DESCRIPTION:Theresia Philipp – sax\nDierk Peters – vibraphone\nJakob Kühnemann – bass\nBenjamin Viale – drums \n\nThe Music Of Keith Copeland – wie wird man Keith Copeland gerecht? Schließlich hat er mit unzähligen verschiedensten Musikern gespielt\, praktisch dem who-is-who des Jazz und dabei immer wieder seine enorme Vielseitigkeit unter Beweis gestellt. \nWas also ist die Konstante in seinem musikalischen Schaffen? Vielleicht geben seine unter eigenem Namen herausgebrachten Aufnahmen eine Antwort? Sicher finden sich die Wurzeln seiner Musik im American Songbook. Und man kann sicher sagen\, dass er\, sei es als Musiker oder auch als Professor seinen Studenten an der Kölner Musikhochschule\, immer eine unglaubliche Energie und Passion investiert hat. \nBeim heutigen Konzert werden wir versuchen\, uns von dieser Energie und dem Bezug auf Gegenwart und Vergangenheit inspirieren zu lassen……
URL:https://www.loftkoeln.de/event/the-music-of-keith-copeland/
END:VEVENT
END:VCALENDAR