BEGIN:VCALENDAR
VERSION:2.0
PRODID:-//www.loftkoeln.de - ECPv5.14.2.1//NONSGML v1.0//EN
CALSCALE:GREGORIAN
METHOD:PUBLISH
X-WR-CALNAME:www.loftkoeln.de
X-ORIGINAL-URL:https://www.loftkoeln.de
X-WR-CALDESC:Veranstaltungen für www.loftkoeln.de
BEGIN:VTIMEZONE
TZID:UTC
BEGIN:STANDARD
TZOFFSETFROM:+0000
TZOFFSETTO:+0000
TZNAME:UTC
DTSTART:20160101T000000
END:STANDARD
END:VTIMEZONE
BEGIN:VEVENT
DTSTART;TZID=UTC:20160109T203000
DTEND;TZID=UTC:20160109T203000
DTSTAMP:20260425T130239
CREATED:20170113T113614Z
LAST-MODIFIED:20170113T113614Z
UID:3656-1452371400-1452371400@www.loftkoeln.de
SUMMARY:THE ABSURD: SPOKEN WORD\, INTERLUDES & GREATEST HITS
DESCRIPTION:Gernot Bogumil – tr\,\nMatthias Ebbinghaus – voc\,\nMichael Frank – g\, b\, voc\n Vera P. Frank – voc\nGöttin Gala – dr\, voc\,\nMichael Hausmann – vibes\, dr\n Max Höfler – g\, voc\,\nKim Jovy – reeds\nManfred Meurer – dr\, perc\n Marcus Jovy – b\,\nSercan Özökten – voc\, perc\n Michael Peters – g\,\nHans Salz – dr\, vibes\, perc\n Andreas Wagner – reeds\,\nMartin Ziegler – p\nMartin Zierold – g\, voc \n\nDie langlebige Kölner Band feiert den Jahresbeginn mit einem weiteren Neujahrskonzert in der traditionsreichen Spielstätte Loft. Im ersten Teil werden Texte einzelner Bandmitglieder vorgetragen und von unterschiedlichen Besetzungen und Klangfarben musikalisch umrankt. Zwischen den Textvertonungen erklingen kurze Zwischenspiele in kammermusikalischer Besetzung. Im zweiten Teil des Konzertabends zelebrieren The Absurd einige beliebte Gassenhauer der Band zwischen psychedelischem Rock\, Jazz und Folklore aus der Türkei.
URL:https://www.loftkoeln.de/event/the-absurd-spoken-word-interludes-greatest-hits/
END:VEVENT
END:VCALENDAR