BEGIN:VCALENDAR
VERSION:2.0
PRODID:-//www.loftkoeln.de - ECPv5.14.2.1//NONSGML v1.0//EN
CALSCALE:GREGORIAN
METHOD:PUBLISH
X-WR-CALNAME:www.loftkoeln.de
X-ORIGINAL-URL:https://www.loftkoeln.de
X-WR-CALDESC:Veranstaltungen für www.loftkoeln.de
BEGIN:VTIMEZONE
TZID:Europe/Berlin
BEGIN:DAYLIGHT
TZOFFSETFROM:+0100
TZOFFSETTO:+0200
TZNAME:CEST
DTSTART:20260329T010000
END:DAYLIGHT
BEGIN:STANDARD
TZOFFSETFROM:+0200
TZOFFSETTO:+0100
TZNAME:CET
DTSTART:20261025T010000
END:STANDARD
END:VTIMEZONE
BEGIN:VEVENT
DTSTART;TZID=Europe/Berlin:20260103T200000
DTEND;TZID=Europe/Berlin:20260103T200000
DTSTAMP:20260423T181434
CREATED:20251127T153408Z
LAST-MODIFIED:20251229T120240Z
UID:31546-1767470400-1767470400@www.loftkoeln.de
SUMMARY:The Absurd: Back to differ....again (Record and Book Release Concert)
DESCRIPTION:Martin Zierold – Stimme\nVera P. Frank – Stimme\, Perkussion\nGöttin Gala – Stimme\, Schlagzeug\, Perkussion\nTobias Becker – Oboe d’amore\nFlorian Schneider – Holszblasinstrumente\nGernot Bogumil – Trompete\nSercan Özökten – Stimme\, Perkussion\nMichael Frank – Gitarre\, Stimme\nMichael Peters – Gitarre\nMartin Ziegler – Piano\nMarcus Jovy – Bass\nMichael Hecker – Schlagzeug\, Vibraphon\nManfred Meurer – Schlagzeug \nvery special guest:\nGizem Nur Copçuoğlu – Stimme \n\n(english: see below) \nWeitere Informationen zu den Preisen\, Karten-Reservierungen und den Öffnungszeiten finden Sie hier.\n\n\nZur Feier des 40-jährigen Bestehens von The Absurd nahm die Band 2024 mehr als ein Dutzend Titel auf\, die nun endlich auf dem Vinyl-Doppelalbum „Back To Differ“ veröffentlicht werden. Parallel dazu erscheint ein Buch mit Songtexten von Michael Frank und Stehgreifzeichnungen von Vera P. Frank. Im Rahmen ihres traditionellen Neujahrskonzerts im LOFT präsentiert die Band in wechselnden Besetzungen Tracks von Back To Differ und eine ganze Reihe neuer unerhörter Songs – zwischen Psychedelia\, Avant-Rock und Melodien aus der Türkei. \nhttps://www.theabsurd.de \n\n\n\n\n\n\nMartin Zierold – vocals\nVera P. Frank – vocals\, percussion\nGöttin Gala – vocals\, drums\, percussion\nTobias Becker – oboe d’amore\nFlorian Schneider – woodwind instruments\nGernot Bogumil – trumpet\nSercan Özökten – vocals\, percussion\nMichael Frank – guitar\, vocals\nMichael Peters – guitar\nMartin Ziegler – piano\nMarcus Jovy – bass\nMichael Hecker – drums\, vibraphone\nManfred Meurer – drums \nvery special guest:\nGizem Nur Copçuoğlu – voice\n\nFurther information about prices\, ticket reservations and our opening times can be found here.\n\nTo celebrate the 40th anniversary of The Absurd\, the band recorded more than a dozen tracks in 2024\, which are now finally being released on the double vinyl album “Back To Differ.” A book with lyrics by Michael Frank and sketches by Vera P. Frank will be published at the same time. As part of their traditional New Year’s concert at LOFT\, the band will present tracks from Back To Differ and a whole series of new\, unheard songs in varying line-ups – ranging from psychedelia and avant-rock to melodies from Turkey.
URL:https://www.loftkoeln.de/event/the-absurd-back-to-differ-again-record-and-book-release-concert/
END:VEVENT
END:VCALENDAR