BEGIN:VCALENDAR
VERSION:2.0
PRODID:-//www.loftkoeln.de - ECPv5.14.2.1//NONSGML v1.0//EN
CALSCALE:GREGORIAN
METHOD:PUBLISH
X-WR-CALNAME:www.loftkoeln.de
X-ORIGINAL-URL:https://www.loftkoeln.de
X-WR-CALDESC:Veranstaltungen für www.loftkoeln.de
BEGIN:VTIMEZONE
TZID:UTC
BEGIN:STANDARD
TZOFFSETFROM:+0000
TZOFFSETTO:+0000
TZNAME:UTC
DTSTART:20080101T000000
END:STANDARD
END:VTIMEZONE
BEGIN:VEVENT
DTSTART;TZID=UTC:20080527T203000
DTEND;TZID=UTC:20080527T203000
DTSTAMP:20260420T082506
CREATED:20180821T135430Z
LAST-MODIFIED:20180821T145423Z
UID:9166-1211920200-1211920200@www.loftkoeln.de
SUMMARY:The Absurd: Absurd Person Singular / Absurd Person Plural
DESCRIPTION:The Absurd sind an diesem Abend u.a.:\nGernot Bogumil – tr\, b\nMatthias Ebbinghaus – voc\nMichael Frank – g\, db\, voc\nGöttin Gala – dr\, voc\nRobert Göllmann – sax\, cl\nMichael Hausmann – vibes\nKarl Krützmann – fl\, sax\nMichael Peters – g\nNorbert Zajac – voc\nMartin Ziegler – p\, acc\nVera P. Zielke – voc\nMartin Zierold – trb\, voc \n\nAbsurd Person Plural (www.theabsurd.de) präsentiert die Band ihre Revue im Ehrenfelder Loft. Zur Aufführung kommen Soli diverser Mitglieder und FreundInnen von The Absurd. Außerdem gibt es im Verlauf des Abends mehrere Ensemble-Nummern\, z.B. die Geschichte vom fliegenden Robert und eine Verbeugung vor den unbesungenen Leben von Menschen\, die nie in den Nachrufen der großen Zeitungen gewürdigt werden. Die Musik variiert wie immer seit 1984 zwischen Jazz\, freier Improvisation und Rock.
URL:https://www.loftkoeln.de/event/the-absurd-absurd-person-singular-absurd-person-plural/
END:VEVENT
END:VCALENDAR