BEGIN:VCALENDAR
VERSION:2.0
PRODID:-//www.loftkoeln.de - ECPv5.14.2.1//NONSGML v1.0//EN
CALSCALE:GREGORIAN
METHOD:PUBLISH
X-WR-CALNAME:www.loftkoeln.de
X-ORIGINAL-URL:https://www.loftkoeln.de
X-WR-CALDESC:Veranstaltungen für www.loftkoeln.de
BEGIN:VTIMEZONE
TZID:UTC
BEGIN:STANDARD
TZOFFSETFROM:+0000
TZOFFSETTO:+0000
TZNAME:UTC
DTSTART:20140101T000000
END:STANDARD
END:VTIMEZONE
BEGIN:VEVENT
DTSTART;TZID=UTC:20140706T203000
DTEND;TZID=UTC:20140706T203000
DTSTAMP:20260422T163738
CREATED:20170322T132251Z
LAST-MODIFIED:20170322T132251Z
UID:4399-1404678600-1404678600@www.loftkoeln.de
SUMMARY:TERRITORIEN DES VERGESSENS
DESCRIPTION:Lan Thanh Cao – Klavier\nSergej Maingardt – Live Elektronik \n\nTristan Murail (FR) – Territoires de l’oubli – für Klavier solo (1977) \nTristan Murail (FR) – La Mandragore – für Klavier solo (1993) \nJonathan Harvey (EN) – Tombeau de Messiaen – für Klavier und Elektronik (1994) \nGeorg Friedrich Haas (AT) – Ein Schattenspiel – für Klavier und Live Elektronik (2004) \nDas Projekt „Territorien des Vergessens“ beschäftigt sich ausschließlich mit Spektraler Musik\, die eine der wichtigsten Ströhmungen der aktuellen zeitgenössischen Musik ist und ihrem Verhältnis zum Klavier. Das gleichnamige kompositorische Meisterwerk („Territoires de l´oubli“) des Franzosen Tristan Murail\, eines der führenden Komponisten dieses Bereichs\, thematisiert die Vernachlässigung wesentlicher klanglicher und expressiver Elemente des Klaviers in der Zeitgenössichen Musik. Das Klavier wurde und wird im Bereich Neuer Musik extensiv als perkussives Instrument eingesetzt\, sein Potential für Resonanz\, Obertöne und Klangfarben jedoch vernachlässigt. Tristan Murail äußerte sich dazu folgendermaßen: „Statt das Klavier lediglich als Perkussions- Instrument (der Hammer schlägt auf die Saite) zu verwenden\, soll „Territoires de l´oublie“ den Fokus auf ein anderes idiomatisches Charakteristikum des Instruments legen: eine Gruppe von Saiten deren Vibration durch symphatetische Resonanz erzeugt wird. Diese Musik wurde für Resonanz und Klangfarbe\, nicht für den (perkussiven) Anschlag\, den ich als „Narbe“ im Kontinuum erachte.“ \nSpektralmusik:Die Spektralmusik (Musique spectrale) hat sich in den 1970er Jahren in Paris im Umfeld des Ensemble l‘Itinéraire herausgebildet. Die physikalisch-akustischen Charakteristika des Klanges allein wurden wissenschaftlich untersucht und zur Grundlage eines neuen Komponierens\, das vor allem auf feinen Modifikationen der Klangfarben basierte. Dadurch wird „ein Ton zur Klangfarbe\, ein Akkord zum Spektralkomplex und ein Rhythmus zu einer Welle von unvorhersehbaren Dauern.“ (nach Gérard Grisey). Die Spektralmusik ist nicht von der mathematischen Reihung von (Ton-)Parametern der seriellen Musik oder der freien Konstruktion der atonalen Musik geprägt\, sondern beruht auf den Obertönen der Klänge. Die wichtigsten Vertreter dieses Musikstils sind die Komponisten Gérard Grisey\, Tristan Murail\, Georg Friedrich Haas\, Philippe Manoury\, Michaël Levinas und Hugues Dufourt. Vorläufer dieses Kompositionsverfahrens sind Giacinto Scelsi\, Ravel und Messiaen.
URL:https://www.loftkoeln.de/event/territorien-des-vergessens/
END:VEVENT
END:VCALENDAR