BEGIN:VCALENDAR
VERSION:2.0
PRODID:-//www.loftkoeln.de - ECPv5.14.2.1//NONSGML v1.0//EN
CALSCALE:GREGORIAN
METHOD:PUBLISH
X-WR-CALNAME:www.loftkoeln.de
X-ORIGINAL-URL:https://www.loftkoeln.de
X-WR-CALDESC:Veranstaltungen für www.loftkoeln.de
BEGIN:VTIMEZONE
TZID:Europe/Berlin
BEGIN:DAYLIGHT
TZOFFSETFROM:+0100
TZOFFSETTO:+0200
TZNAME:CEST
DTSTART:20250330T010000
END:DAYLIGHT
BEGIN:STANDARD
TZOFFSETFROM:+0200
TZOFFSETTO:+0100
TZNAME:CET
DTSTART:20251026T010000
END:STANDARD
END:VTIMEZONE
BEGIN:VEVENT
DTSTART;TZID=Europe/Berlin:20250222T200000
DTEND;TZID=Europe/Berlin:20250222T200000
DTSTAMP:20260425T124214
CREATED:20250113T132021Z
LAST-MODIFIED:20250113T141605Z
UID:28717-1740254400-1740254400@www.loftkoeln.de
SUMMARY:TAU
DESCRIPTION:  \nPhilipp Gropper – Tenor- & Sopransaxophon\nPhilip Zoubek – Synthesizer\nLudwig Wandinger – Elektronik\nFelix Henkelhausen – Bass\nMoritz Baumgärtner – Schlagzeug\n \n\n(english: see below) \nWeitere Informationen zu den Preisen\, Karten-Reservierungen und den Öffnungszeiten finden Sie hier.\n\nTAU © Eduardo Vizzarro & Max Krüger\nMusikalisch changiert TAU zwischen Free-Jazz und Fusion mit Beat-lastigen Hip-Hop-Elementen – einzelne Parts erinnern an aufwändig produzierte Soundtracks. In einem kollektiven Prozess aus Komposition\, Improvisation und Arrangement finden die fünf Musiker aus Berlin und Köln das Vokabular für ihre eigene Klangsprache. Es entsteht ein Sound\, der an Dichte schwer zu überbieten ist: Futuristisch\, virtuos und mutig! \n\n\nKlingt so: \n\n\n\n\n\nPhilipp Gropper – tenor & soprano saxophone\nPhilip Zoubek – synthesizer\nLudwig Wandinger – electronics\nFelix Henkelhausen – bass\nMoritz Baumgärtner – drums \nFurther information about prices\, ticket reservations and our opening times can be found here. \n\nTAU oscillates between free jazz and fusion with beat-heavy hip-hop elements – individual parts are reminiscent of elaborately produced soundtracks. In a collective process of composition\, improvisation and arrangement\, the five musicians from Berlin and Cologne find the vocabulary for their own sound language. The result is a sound that is hard to beat in terms of density: futuristic\, virtuosic and bold! \n  \n 
URL:https://www.loftkoeln.de/event/tau/
END:VEVENT
END:VCALENDAR