BEGIN:VCALENDAR
VERSION:2.0
PRODID:-//www.loftkoeln.de - ECPv5.14.2.1//NONSGML v1.0//EN
CALSCALE:GREGORIAN
METHOD:PUBLISH
X-WR-CALNAME:www.loftkoeln.de
X-ORIGINAL-URL:https://www.loftkoeln.de
X-WR-CALDESC:Veranstaltungen für www.loftkoeln.de
BEGIN:VTIMEZONE
TZID:Europe/Berlin
BEGIN:DAYLIGHT
TZOFFSETFROM:+0100
TZOFFSETTO:+0200
TZNAME:CEST
DTSTART:20260329T010000
END:DAYLIGHT
BEGIN:STANDARD
TZOFFSETFROM:+0200
TZOFFSETTO:+0100
TZNAME:CET
DTSTART:20261025T010000
END:STANDARD
END:VTIMEZONE
BEGIN:VEVENT
DTSTART;TZID=Europe/Berlin:20260409T200000
DTEND;TZID=Europe/Berlin:20260409T200000
DTSTAMP:20260424T032027
CREATED:20260302T104336Z
LAST-MODIFIED:20260312T124835Z
UID:32297-1775764800-1775764800@www.loftkoeln.de
SUMMARY:TÆ – 4 Settings | Release Konzert
DESCRIPTION:Stefanie Lukassek – Stimme\, Synthesizer & FX\nTheo Altmann – Trompete & FX\nLennard Fiehn – Bassklarinette & FX\nLucie Graehl – Holzblasinstrumente & FX\nTim Strohmeier – Schlagzeug\, Synthesizer & FX \n\n(english: see below) \nWeitere Informationen zu den Preisen\, Karten-Reservierungen und den Öffnungszeiten finden Sie hier.\n\n\n\nTÆ © Patrick Suhm\nDie fünfköpfige Formation um Tim Strohmeier\, Lennard Fiehn\, Stefanie Lukassek\, Theo Altmann und Lucie Graehl verbindet akustische Instrumente mit elektronischen Klangwelten – mal fließend und fragil\, mal roh\, dicht und kraftvoll. In diesem Setting entstehen Klangräume zwischen Ambient und Noise\, zwischen struktureller Klarheit und offener Improvisation. Jazz sowie Neue und elektronische Musik bilden dabei keine stilistischen Grenzen\, sondern Bezugspunkte\, die die Gruppe bewusst überschreitet. \nTÆ denkt Musik als Prozess: Kollektiv\, neugierig\, grenzüberschreitend. Ihre neuen\, gemeinsam erarbeiteten Kompositionen erkunden Zeitlichkeit\, Strukturbrüche und die Verwandlung akustischer Klänge durch elektronische Mittel.\nSie beschäftigen sich mit Dichte und Reduktion sowie mit der Transformation akustischer Klänge durch elektronische Mittel. Dadurch entstehen vielschichtige Stücke\, die Fragilität und Ruhe ebenso zulassen wie intensivere\, komplexere Passagen. Die Musik lebt von der Interaktion mit den jeweiligen Räumen und eröffnet Zuhörer*innen einen Einblick in den kollektiven Forschungsprozess der Gruppe. \nNach früheren Projekten wie dem zweitägigen Debüt in der Stuttgarter Kirche St. Maria und Auftritten u. a. beim Detect Classic Festival stellen TÆ nun ihr neues Album im Rahmen einer Konzerttour vor. \n\n\n\nGefördert von: \n \n\n\n\n\n\n\n\nStefanie Lukassek – voice\, synthesizer & fx\nTheo Altmann – trumpet & fx\nLennard Fiehn – bass clarinet & fx\nLucie Graehl – reeds & fx\nTim Strohmeier – drums\, synthesizer & fx\nFurther information about prices\, ticket reservations and our opening times can be found here.\n\n\n\nThe five-piece band led by Tim Strohmeier\, Lennard Fiehn\, Stefanie Lukassek\, Theo Altmann\, and Lucie Graehl combines acoustic instruments with electronic soundscapes—sometimes fluid and fragile\, sometimes raw\, dense\, and powerful. This setting creates soundscapes that range from ambient to noise\, from structural clarity to open improvisation. Jazz\, new music\, and electronic music do not form stylistic boundaries\, but rather points of reference that the group deliberately transcends. \nTÆ conceives of music as a process: collective\, curious\, boundary-crossing. Their new\, collaboratively developed compositions explore temporality\, structural breaks\, and the transformation of acoustic sounds through electronic means. \nThey deal with density and reduction as well as the transformation of acoustic sounds through electronic means. This results in multi-layered pieces that allow for fragility and calm as well as more intense\, complex passages. The music thrives on interaction with the respective spaces and gives listeners an insight into the group’s collective research process. \nFollowing earlier projects such as their two-day debut at St. Maria Church in Stuttgart and performances at the Detect Classic Festival\, among others\, TÆ are now presenting their new album as part of a concert tour.
URL:https://www.loftkoeln.de/event/tae-4-settings-release-konzert/
END:VEVENT
END:VCALENDAR