BEGIN:VCALENDAR
VERSION:2.0
PRODID:-//www.loftkoeln.de - ECPv5.14.2.1//NONSGML v1.0//EN
CALSCALE:GREGORIAN
METHOD:PUBLISH
X-WR-CALNAME:www.loftkoeln.de
X-ORIGINAL-URL:https://www.loftkoeln.de
X-WR-CALDESC:Veranstaltungen für www.loftkoeln.de
BEGIN:VTIMEZONE
TZID:UTC
BEGIN:STANDARD
TZOFFSETFROM:+0000
TZOFFSETTO:+0000
TZNAME:UTC
DTSTART:20140101T000000
END:STANDARD
END:VTIMEZONE
BEGIN:VEVENT
DTSTART;TZID=UTC:20140427T203000
DTEND;TZID=UTC:20140427T203000
DTSTAMP:20260424T104127
CREATED:20170323T120315Z
LAST-MODIFIED:20170323T120354Z
UID:4447-1398630600-1398630600@www.loftkoeln.de
SUMMARY:Sven Decker´s TRANSPARENCY
DESCRIPTION:Sven Decker – ts.\, bscl.\, cl.\nMatthias Akeo Nowak – bass\nEtienne Nillesen – drums \n\nUnterwegs- eine Zeitreise… stehen bleiben\, innehalten\, nachdenken\, in sich hineinfühlen\, empfinden und weitergehen\, immerzu weitergehen\, bis zur nächsten Haltestelle! Dort angekommen wieder das gleiche Prozedere\, immer und immer wieder- und von Halt zu Halt. Dann- angekommen zu Hause- wieder: in sich hinein fühlen\, innehalten\, empfinden\, reflektieren\, nachdenken und schreiben- Musik schreiben! Eindrücke\, Empfindungen\, Ideen\, Klänge\, Begegnungen\, Erlebtes unterwegs- all das in Töne\, Rhythmen\, Sounds\, Harmonien und Stimmungen packen\, verarbeiten und aufschreiben\, proben und die Mitmusiker\, dann das Publikum\, teilhaben lassen. Zu diesem Haltepunkt\, zu diesem Konzert\, möchte das Trio um den Kölner Saxophonisten\, Klarinettisten und Komponisten Sven Decker sie ganz herzlich einladen innezuhalten\, stehen zu bleiben\, nachzudenken\, zuzuhören und dann wieder weiterzugehen\, immer weiter- unterwegs sein. www.sven-decker.de www.etiennenillesen.com \nwww.koi-trio.de
URL:https://www.loftkoeln.de/event/sven-decker%c2%b4s-transparency/
END:VEVENT
END:VCALENDAR