BEGIN:VCALENDAR
VERSION:2.0
PRODID:-//www.loftkoeln.de - ECPv5.14.2.1//NONSGML v1.0//EN
CALSCALE:GREGORIAN
METHOD:PUBLISH
X-WR-CALNAME:www.loftkoeln.de
X-ORIGINAL-URL:https://www.loftkoeln.de
X-WR-CALDESC:Veranstaltungen für www.loftkoeln.de
BEGIN:VTIMEZONE
TZID:Europe/Berlin
BEGIN:DAYLIGHT
TZOFFSETFROM:+0100
TZOFFSETTO:+0200
TZNAME:CEST
DTSTART:20040328T010000
END:DAYLIGHT
BEGIN:STANDARD
TZOFFSETFROM:+0200
TZOFFSETTO:+0100
TZNAME:CET
DTSTART:20041031T010000
END:STANDARD
END:VTIMEZONE
BEGIN:VEVENT
DTSTART;TZID=Europe/Berlin:20040113T203000
DTEND;TZID=Europe/Berlin:20040113T203000
DTSTAMP:20260421T111524
CREATED:20250519T061448Z
LAST-MODIFIED:20250519T061448Z
UID:30019-1074025800-1074025800@www.loftkoeln.de
SUMMARY:Sunna Gunnlaugs Quartett New York
DESCRIPTION:Loren Stillman – sax\nSunna Gunnlaugs – piano\nEivind Opsvik – bass\nScott McLemore – drums  \nZum dritten. Mal schon spielt die isländische Pianistin Sunna Gunnlaugs im LOFT. Seit 10 Jahren lebt sie in New York\, wo sie auch studiert hat und tourt nun in Europa \nZum dritten. Mal schon spielt die isländische Pianistin Sunna Gunnlaugs im LOFT. Seit 10 Jahren lebt sie in New York\, wo sie auch studiert hat und tourt nun in Europa zum dritten Mal mit ihrem Quartett. Ihr erstes Konzert im LOFT im März 2002 war ein großer Erfolg. Sie ist beeinflusst von Keith Jarrett\, Bill Evans und Bob Stenson und hat mit der Zeit ihren eigenen Stil gefunden.
URL:https://www.loftkoeln.de/event/sunna-gunnlaugs-quartett-new-york/
END:VEVENT
END:VCALENDAR