BEGIN:VCALENDAR
VERSION:2.0
PRODID:-//www.loftkoeln.de - ECPv5.14.2.1//NONSGML v1.0//EN
CALSCALE:GREGORIAN
METHOD:PUBLISH
X-WR-CALNAME:www.loftkoeln.de
X-ORIGINAL-URL:https://www.loftkoeln.de
X-WR-CALDESC:Veranstaltungen für www.loftkoeln.de
BEGIN:VTIMEZONE
TZID:UTC
BEGIN:STANDARD
TZOFFSETFROM:+0000
TZOFFSETTO:+0000
TZNAME:UTC
DTSTART:20090101T000000
END:STANDARD
END:VTIMEZONE
BEGIN:VEVENT
DTSTART;TZID=UTC:20091011T203000
DTEND;TZID=UTC:20091011T203000
DTSTAMP:20260422T162131
CREATED:20171102T142552Z
LAST-MODIFIED:20171102T142552Z
UID:6287-1255293000-1255293000@www.loftkoeln.de
SUMMARY:Streun - Cottin - Schumacher
DESCRIPTION:Lutz Streun – sax.\, bcl.\nEva Cottin – 5 string viol.\, Strohgeige\nTill Schumacher – piano \n\nDas Trio Streun- Cottin- Schumacher ist ein Wandler zwischen den musikalischen Welten. In der Besetzung Geige\, Klavier\, Saxophon kreieren die drei Musiker musikalische Momente zwischen Jazz\, Neuer Musik\, Klassik und freier Improvisation. Fröhlich\, virtuos\, undogmatisch\, mal leise und minimalistisch\, mal laut und wild begibt sich das Trio auf eine klangliche Abenteuerreise zwischen Tradition und Moderne. Durch die ungewöhnliche Besetzung entsteht eine faszinierende musikalische Offenheit. Scheuklappen werden abgelegt\, scheinbare Gegensätze ausgelotet und Elemente vieler Stilrichtungen assoziativ miteinander verbunden.
URL:https://www.loftkoeln.de/event/streun-cottin-schumacher/
END:VEVENT
END:VCALENDAR