BEGIN:VCALENDAR
VERSION:2.0
PRODID:-//www.loftkoeln.de - ECPv5.14.2.1//NONSGML v1.0//EN
CALSCALE:GREGORIAN
METHOD:PUBLISH
X-WR-CALNAME:www.loftkoeln.de
X-ORIGINAL-URL:https://www.loftkoeln.de
X-WR-CALDESC:Veranstaltungen für www.loftkoeln.de
BEGIN:VTIMEZONE
TZID:UTC
BEGIN:STANDARD
TZOFFSETFROM:+0000
TZOFFSETTO:+0000
TZNAME:UTC
DTSTART:20130101T000000
END:STANDARD
END:VTIMEZONE
BEGIN:VEVENT
DTSTART;TZID=UTC:20130202T203000
DTEND;TZID=UTC:20130202T203000
DTSTAMP:20260424T140516
CREATED:20171010T124602Z
LAST-MODIFIED:20171010T124602Z
UID:5365-1359837000-1359837000@www.loftkoeln.de
SUMMARY:Stephan Becker Trio - „Urban Poems“
DESCRIPTION:Stephan Becker – piano\nThomas Esch – Schlagzeug\nStefan Rey – bass \n\nDie drei Musiker haben mit Urban Poems jetzt ihre 2. CD vorgelegt und sind 2013 mit den neuen Kompositionen auf Tournee. Der unverwechselbare Sound der Band entsteht aus Grooves\, die aus Funk und Hip-Hop entstanden sind\, ausgestaltet mit den Harmonien der reichhaltigen Klangwelt des Jazz und den gesanglichen Melodien\, die Beckers tiefem musikalischen Empfinden entspringen und in seine Kompositionen und Improvisationen einfließen. \nwww.stephan-becker-trio.de
URL:https://www.loftkoeln.de/event/stephan-becker-trio-%e2%80%9eurban-poems%e2%80%9c/
END:VEVENT
END:VCALENDAR