BEGIN:VCALENDAR
VERSION:2.0
PRODID:-//www.loftkoeln.de - ECPv5.14.2.1//NONSGML v1.0//EN
CALSCALE:GREGORIAN
METHOD:PUBLISH
X-WR-CALNAME:www.loftkoeln.de
X-ORIGINAL-URL:https://www.loftkoeln.de
X-WR-CALDESC:Veranstaltungen für www.loftkoeln.de
BEGIN:VTIMEZONE
TZID:Europe/Berlin
BEGIN:DAYLIGHT
TZOFFSETFROM:+0100
TZOFFSETTO:+0200
TZNAME:CEST
DTSTART:20260329T010000
END:DAYLIGHT
BEGIN:STANDARD
TZOFFSETFROM:+0200
TZOFFSETTO:+0100
TZNAME:CET
DTSTART:20261025T010000
END:STANDARD
END:VTIMEZONE
BEGIN:VEVENT
DTSTART;TZID=Europe/Berlin:20260412T200000
DTEND;TZID=Europe/Berlin:20260412T200000
DTSTAMP:20260423T222309
CREATED:20260210T142538Z
LAST-MODIFIED:20260319T084042Z
UID:32188-1776024000-1776024000@www.loftkoeln.de
SUMMARY:Stein/Herzog - ROOM ANOTHER
DESCRIPTION:Bastian Stein – Trompete\nEvi Filippou – Vibraphon\nFelix Hauptmann – Piano\nFlorian Herzog – Bass\nLeif Berger – Schlagzeug \n\n(english: see below) \nWeitere Informationen zu den Preisen\, Karten-Reservierungen und den Öffnungszeiten finden Sie hier.\n\n\n\n\n\nBastian Stein & Florian Herzog: Room Another © Alessandro de Matteis & Patrik Essex\nROOM ANOTHER ist ein neu gegründetes Ensemble des Trompeters Bastian Stein und des Bassisten Florian Herzog. Gemeinsam mit Evi Filippou (Vibraphon)\, Felix Hauptmann (Klavier) und Leif Berger (Schlagzeug) vereint das Ensemble prägende Vertreter der jungen deutschen Jazzszene. \nDie Musik von ROOM ANOTHER bewegt sich zwischen kompositorischer Präzision und kollektiver Improvisation. Im Zentrum steht die Idee des „Raums“ – ein künstlerischer Ort\, an dem fünf Musiker-Persönlichkeiten gleichberechtigt agieren. Besonders prägend ist Steins kraftvoller und gleichzeitig beweglicher Trompetenton und Herzogs rhythmisch-strukturelle Bassführung. Aus diesen kompositorischen Ansätzen entstehen Stücke\, die sowohl klar strukturiert als auch offen für spontane Entwicklungen sind. \nhttps://bastianstein.com/ \nhttps://florianherzog.info/ \nhttps://evifilippou.com/ \n\nhttps://de.wikipedia.org/wiki/Leif_Berger \n\n  \n\n\n\n\nGefördert von: \n \n\n\n\nBastian Stein – trumpet\nEvi Filippou – vibraphone\nFelix Hauptmann – piano\nFlorian Herzog – bass\nLeif Berger – drums \n\nFurther information about prices\, ticket reservations and our opening times can be found here.\n\n\nROOM ANOTHER is a newly founded ensemble led by trumpeter Bastian Stein and bassist Florian Herzog. Together with Evi Filippou (vibraphone)\, Felix Hauptmann (piano)\, and Leif Berger (drums)\, the ensemble brings together influential representatives of the young German jazz scene. \nThe music of ROOM ANOTHER moves between compositional precision and collective improvisation. At its core is the idea of “space” an artistic place where five musical personalities interact as equals. Particularly influential are Stein’s powerful yet agile trumpet sound and Herzog’s rhythmic\, structural bass lines. These compositional approaches give rise to pieces that are both clearly structured and open to spontaneous developments.
URL:https://www.loftkoeln.de/event/stein-herzog-room-another/
END:VEVENT
END:VCALENDAR