BEGIN:VCALENDAR
VERSION:2.0
PRODID:-//www.loftkoeln.de - ECPv5.14.2.1//NONSGML v1.0//EN
CALSCALE:GREGORIAN
METHOD:PUBLISH
X-WR-CALNAME:www.loftkoeln.de
X-ORIGINAL-URL:https://www.loftkoeln.de
X-WR-CALDESC:Veranstaltungen für www.loftkoeln.de
BEGIN:VTIMEZONE
TZID:UTC
BEGIN:STANDARD
TZOFFSETFROM:+0000
TZOFFSETTO:+0000
TZNAME:UTC
DTSTART:20140101T000000
END:STANDARD
END:VTIMEZONE
BEGIN:VEVENT
DTSTART;TZID=UTC:20141124T203000
DTEND;TZID=UTC:20141124T203000
DTSTAMP:20260423T012817
CREATED:20170322T084600Z
LAST-MODIFIED:20170322T084600Z
UID:4335-1416861000-1416861000@www.loftkoeln.de
SUMMARY:Stefan Schultze – The Pulsepusher Suite // Kompositionen für präpariertes Klavier
DESCRIPTION:Stefan Schultze – präpariertes Klavier \n\nStefan Schultze präsentiert alte und neue Komposition für präpariertes Klavier. \nDabei lässt er die Pfade des Jazz und der voluminösen Klangräume weit hinter sich\, um an seinem Klavier minimalistisch-komplexe Hörbilder zu schaffen\, die eine eigene\, teils expressionistische\, teils meditative Kraft entfalten. \nDer Komponist und Pianist Stefan Schultze verbindet in seinem Stil Elemente der Neuen Musik\, der Improvisation\, des Avantgarde und des Jazz. Seine Passion gilt sowohl dem kollektiven Klangbild großer Besetzungen\, dafür wurde  er 2010 mit dem WDR-Jazzpreis für Komposition ausgezeichnet \, als auch der Verknüpfung von Improvisation und Komposition in kleineren Besetzungen. Ein wesentlicher Bestandteil seiner Arbeit ist darüber hinaus das Integrieren von Geräuschen\, erweiterten Spieltechniken und Präparationen innerhalb seiner Kompositionen.
URL:https://www.loftkoeln.de/event/stefan-schultze-%e2%80%93-the-pulsepusher-suite-kompositionen-fur-prapariertes-klavier/
END:VEVENT
END:VCALENDAR