BEGIN:VCALENDAR
VERSION:2.0
PRODID:-//www.loftkoeln.de - ECPv5.14.2.1//NONSGML v1.0//EN
CALSCALE:GREGORIAN
METHOD:PUBLISH
X-WR-CALNAME:www.loftkoeln.de
X-ORIGINAL-URL:https://www.loftkoeln.de
X-WR-CALDESC:Veranstaltungen für www.loftkoeln.de
BEGIN:VTIMEZONE
TZID:UTC
BEGIN:STANDARD
TZOFFSETFROM:+0000
TZOFFSETTO:+0000
TZNAME:UTC
DTSTART:20150101T000000
END:STANDARD
END:VTIMEZONE
BEGIN:VEVENT
DTSTART;TZID=UTC:20151221T203000
DTEND;TZID=UTC:20151221T203000
DTSTAMP:20260423T134935
CREATED:20170223T113611Z
LAST-MODIFIED:20171019T073806Z
UID:3925-1450729800-1450729800@www.loftkoeln.de
SUMMARY:Spiritual Standards
DESCRIPTION:Jan van Klewitz – sax.\,\nMarkus Burger – piano \n\nDie schönsten und bekanntesten deutschen Choräle\, Kirchen- und Weihnachtslieder werden durch das Zwiegespräch dieser hochsensiblen Musiker in eine gekonnte Symbiose zwischen Tradition und zeitgenössischer Jazzimprovisation eingebettet. Melodien wie „Oh Haupt voll Blut und Wunden“\, „Maria durch den Dornwald ging“ oder „Lobet den Herren“ werden mit Tiefe und Kraft packend und klar Grundlagen von spannenden Improvisationen und Dialogen\, ohne in Selbstgefälligkeit auszuarten. \nBeide Musiker arbeiten schon seit zwei Jahrzehnten zusammen und sind längst ein wichtiger Bestandteil der deutschen Musikszene. Selten ist christliche Musik so zeitgemäß und doch mit so tiefempfundenem Respekt interpretiert worden wie von Burger/Klewitz. \n„Vor elf Jahren sind sie angetreten\, Lieder\, die sonst nur im klerikalen Raum erklingen\, der westlichen Kunst der Improvisation auszuliefern. Pianist Markus Burger und Saxofonist Jan von Klewitz haben seither auf drei Alben bewiesen\, dass im kirchlichen Liedgut mehr steckt als der Soundtrack für Messen\, Vorlagen für düstere Orgel-Akkorde oder Noten für Gemeindechöre: nämlich jede Menge musikalisches Potenzial für Duo-Improvisationen. Ausgabe vier verlässt nun die europäische Sakralkultur und macht sich jenseits des Teichs auf die Suche. Fündig werden wollten von Klewitz und Burger dabei bewusst nicht bei den Gassenhauern der amerikanischen Gospel-Literatur\, sondern bei Liedern wie Thad Jones‘ „A Child Is Born“\, „Ol‘ Man River“ oder „God Bless The Child“ von Billie Holiday. Herausgekommen ist dabei erneut ein Album \nder ruhigen Art\, eine gelungene Gratwanderung\, die sakrale Würde kultiviert\, ohne den musikalischen Ideenreichtum hintanzustellen. Die Spannung\, die der Kontrast von hymnischem Saxofon-Ton und kraftvollem\, melodischen Piano-Spiel erzeugt\, bewahrt diese Auseinandersetzung mit religiöser Musik vor Abnutzungserscheinungen.“
URL:https://www.loftkoeln.de/event/spiritual-standards/
END:VEVENT
END:VCALENDAR