BEGIN:VCALENDAR
VERSION:2.0
PRODID:-//www.loftkoeln.de - ECPv5.14.2.1//NONSGML v1.0//EN
CALSCALE:GREGORIAN
METHOD:PUBLISH
X-WR-CALNAME:www.loftkoeln.de
X-ORIGINAL-URL:https://www.loftkoeln.de
X-WR-CALDESC:Veranstaltungen für www.loftkoeln.de
BEGIN:VTIMEZONE
TZID:UTC
BEGIN:STANDARD
TZOFFSETFROM:+0000
TZOFFSETTO:+0000
TZNAME:UTC
DTSTART:20150101T000000
END:STANDARD
END:VTIMEZONE
BEGIN:VEVENT
DTSTART;TZID=UTC:20150901T203000
DTEND;TZID=UTC:20150901T203000
DTSTAMP:20260424T135830
CREATED:20170303T090634Z
LAST-MODIFIED:20170303T090634Z
UID:4056-1441139400-1441139400@www.loftkoeln.de
SUMMARY:SOUNDTRIP NRW - look inside TRIP #25
DESCRIPTION:Thomas Lehn – analoger synthesizer\nTiziana Bertoncini – violine\nCarl Ludwig Hübsch – tuba\nMatthias Schubert – ts.\nPhilip Zoubek – piano  \n 
URL:https://www.loftkoeln.de/event/soundtrip-nrw-look-inside-trip-25/
END:VEVENT
END:VCALENDAR