BEGIN:VCALENDAR
VERSION:2.0
PRODID:-//www.loftkoeln.de - ECPv5.14.2.1//NONSGML v1.0//EN
CALSCALE:GREGORIAN
METHOD:PUBLISH
X-WR-CALNAME:www.loftkoeln.de
X-ORIGINAL-URL:https://www.loftkoeln.de
X-WR-CALDESC:Veranstaltungen für www.loftkoeln.de
BEGIN:VTIMEZONE
TZID:UTC
BEGIN:STANDARD
TZOFFSETFROM:+0000
TZOFFSETTO:+0000
TZNAME:UTC
DTSTART:20170101T000000
END:STANDARD
END:VTIMEZONE
BEGIN:VEVENT
DTSTART;TZID=UTC:20170301T203000
DTEND;TZID=UTC:20170301T203000
DTSTAMP:20260424T140807
CREATED:20170125T132335Z
LAST-MODIFIED:20170206T071615Z
UID:3748-1488400200-1488400200@www.loftkoeln.de
SUMMARY:SOUNDTRIP NRW - look inside # 33 presents Henrik Munkeby Nørstebo - Posaune
DESCRIPTION:Munkeby Nørstebo – Posaune Solound zusammen mitMarlies Debacker – PianoEtienne Nilessen – PerkussionCarl Ludwig Hübsch – Tuba \n\n© Svetlana Selezneva\nHenrik Munkeby Nørstebøs zwiespältiger Zugang zur Posaune drückt sich einerseits im Interesse an typischen Blechbläser-Klängen seines Instrumentes aus\, andererseits im Umgang mit mikroskopischen\, eher schon elektronisch anmutenden Klängen seines Instrumentes.\nAuf diesen Gebieten findet er in Köln potente Mitstreiter. Nicht nur weil mit Carl Ludwig Hübsch ein weiterer Blechbläser von der Partie ist\, sondern weil die Quasi-Neukölnerin Marlies de Backer am Piano sensibelst hörend Klänge verwebt und weil Etienne Nilessens ausgefeilte Trommel eigentlich mehr geregelt als geschlagen wird.Man darf man also im zweiten Durchgang auf elektronische Musik ohne Strom gespannt sein. \nweitere Infos\nHenrik Munkeby Nørstebøs(*1986 in Trondheim\, Norwegen) ist ein profilierter Musiker der zeitgenössischen und improvisierten Musik.\nNørstebø hat auf etlichen Europäischen Festivals und in Clubs gespielt\, wie auch in Russland\, Japan\, Neuseeland\, Australien\, Brasilien und Argentinien.\nProjekte mit seiner Mitwirkung sind zB „As deafness increases“\, „Lana trio“\, „Whirl“ (mit Tobias Delius) und Nørstebø/Strid/de Heney\, das Duo BEAM SPLITTER mit Audrey Chen\,  das Neue Musik Ensemble „Aksiom“ und die Freejazz-Pop_Band „Skadedyr“.\nDarüber hinaus gibt Nørstebø seit 2007 regelmässig Solokonzerte (u.a. released auf SOFA im November 2015). \n\nwww.henriknorstebo.com\nwww.youtube.com/watch?v=UvsweATrcPY\n\nhttp://www.soundtrips-nrw.de\nwww.huebsch.me\nhttps://de.wikipedia.org/wiki/Etienne_Nillesen\n\n\n\nHenrik Munkeby Nørstebø (*1986 in Trondheim\, Norwegen)is a trombonist working mostly within contemporary fields of music. An ambiguous relationship with the trombone has led him to explore both the boisterous and brassy side of the instrument\, as well as it’s counterpoint in microscopic and ‘electronic’ sound possibilities. Utilizing a wide spectrum of playing techniques\, from pure long tones to noise and the almost inaudible\, he often works balancing the intuitive with the precisely constructed.Nørstebø’s time is divided between his regular projects; trios As deafness increases\, Lana trio\, Whirl (with Tobias Delius) and Nørstebø/Strid/de Heney\, duo BEAM SPLITTER (with Audrey Chen)\, new music ensemble „Aksiom“ and the freejazzpop-band „Skadedyr“. He is also a member of several project based groups\, and have appeared in a myriad of ad hoc settings. Having toured actively since 2010\, he has played at clubs and festivals in more than half of the European countries\, as well as in Russia\, Japan\, New Zealand\, Australia\, Brazil and Argentina.Apart from his big range of collaborations\, Henrik has been working regularly with solo music since 2007. His debut record was released in 2011\, and his second solo record “Melting into foreground” was released on SOFA in november 2015. In addition to numerous other releases\, his discography contains duo records with Swedish pianist Rasmus Borg and Austrian sound artist Daniel Lercher.www.henriknorstebo.com
URL:https://www.loftkoeln.de/event/soundtrip-nrw-look-inside-33-presents-henrik-munkeby-norstebo-posaune/
END:VEVENT
END:VCALENDAR