BEGIN:VCALENDAR
VERSION:2.0
PRODID:-//www.loftkoeln.de - ECPv5.14.2.1//NONSGML v1.0//EN
CALSCALE:GREGORIAN
METHOD:PUBLISH
X-WR-CALNAME:www.loftkoeln.de
X-ORIGINAL-URL:https://www.loftkoeln.de
X-WR-CALDESC:Veranstaltungen für www.loftkoeln.de
BEGIN:VTIMEZONE
TZID:Europe/Berlin
BEGIN:DAYLIGHT
TZOFFSETFROM:+0100
TZOFFSETTO:+0200
TZNAME:CEST
DTSTART:20230326T010000
END:DAYLIGHT
BEGIN:STANDARD
TZOFFSETFROM:+0200
TZOFFSETTO:+0100
TZNAME:CET
DTSTART:20231029T010000
END:STANDARD
END:VTIMEZONE
BEGIN:VEVENT
DTSTART;TZID=Europe/Berlin:20230309T203000
DTEND;TZID=Europe/Berlin:20230309T203000
DTSTAMP:20260420T004937
CREATED:20230202T155229Z
LAST-MODIFIED:20230207T125204Z
UID:22898-1678393800-1678393800@www.loftkoeln.de
SUMMARY:SOUNDBRIDGES | Vandermark · Muche · Lehn · Blume | live recording
DESCRIPTION:Ken Vandermark – Tenorsaxophon\, Klarinette\nMatthias Muche – Posaune\nThomas Lehn – EMS Analogsynthesizer\nMartin Blume – Schlagzeug & Perkussion\n \n\n\n(english: see below) \nInformationen zu den Preisen\, Karten-Reservierungen und den Öffnungszeiten finden Sie hier.\n\n\n\n© Andre Symann\nDer Initiative des Schlagzeugers Martin Blume ist es zu verdanken\, dass 2021 das US-amerikanisch-deutsche Quartett SOUNDBRIDGES gegründet wurde\, in dem neben ihm der Saxophonist Ken Vandermark\, der Posaunist Matthias Muche und der Synthesizer-Spieler Thomas Lehn spielen. \nDas Premierenkonzert fand am 10. September in Dortmund beim Visual Sound Outdoor Festival statt\, es folgten Auftritte beim Ruhr Jazz– und dem Peitz-Festival\, organisiert vom Label jazzwerkstatt\, das im September 2022 die erste CD des Quartetts veröffentlichte. Diese wurde von der Presse sehr positiv aufgenommen\, u.a.:\n„Soundbridges bietet viel: Dynamik\, wilden Free Jazz\, kontemplative Phasen\, Klangexkursionen. Alles fließt homogen ineinander\, als gäbe es keine Trennlinien. Durch Klangbrücken\, im schönsten Sinne des Wortes.“ (Martin Schray\, The Free Jazz Collective) \n„Die einzigartige Instrumentierung ohne Bass eröffnet diesem energiegeladenen Quartett neue klangliche und rhythmische Möglichkeiten. … Lehn und Blume schlagen vielschichtige\, höchst nuancierte rhythmische Muster vor\, die Vandermark und Muche dazu bringen\, ihre erweiterten Atemtechniken zu erkunden. … Der Titel des letzten\, kurzen Stücks „Overlapping Edges“ erzählt schön\, wie die scharfen\, eigenwilligen Kanten dieses Quartetts starke und massive Brücken bauen. Ich warte auf das nächste Stück dieses großartigen Quartetts.“ (Eyal Hareuveni\, salt peanuts) \nKen Vandermark – www.kenvandermark.com\nMatthias Muche – www.matthiasmuche.com\nThomas Lehn – www.thomaslehn.com\nMartin Blume – www.martinblume.com \n\n\n\nKen Vandermark – tenor saxophone\, clarinet\nMatthias Muche – trombone\nThomas Lehn – EMS analog synthesizer\nMartin Blume – drums & percussion \nInformation about prices\, ticket reservations and our opening times can be found here. \nIt is thanks to the initiative of drummer Martin Blume that the U.S.-German quartet SOUNDBRIDGES was founded in 2021\, in which he is joined by saxophonist Ken Vandermark\, trombonist Matthias Muche and synthesizer player Thomas Lehn. \nThe premiere concert took place on September 10th in Dortmund at the Visual Sound Outdoor Festival\, followed by performances at the Ruhr Jazz Festival and the Peitz Festival\, organized by the jazzwerkstatt label\, which released the quartet’s first CD in September 2022. This was very positively received by the press\, including:\n„Soundbridges offers a lot: dynamics\, wild free jazz\, contemplative phases\, sound excursions. Everything flows homogeneously into each other\, as if there were no dividing lines. Through sound bridges\, in the most beautiful sense of the word.“ (Martin Schray\, The Free Jazz Collective) \n„The unique instrumentation without bass opens up new sonic and rhythmic possibilities for this energetic quartet. … Lehn and Blume suggest multilayered\, highly nuanced rhythmic patterns that lead Vandermark and Muche to explore their extended breathing techniques. … The title of the final\, short piece\, „Overlapping Edges\,“ nicely tells how the sharp\, idiosyncratic edges of this quartet build strong and massive bridges. I await the next piece from this great quartet.“ (Eyal Hareuveni\, salt peanuts)
URL:https://www.loftkoeln.de/event/soundbridges-vandermark-%c2%b7-muche-%c2%b7-lehn-%c2%b7-blume/
END:VEVENT
END:VCALENDAR