BEGIN:VCALENDAR
VERSION:2.0
PRODID:-//www.loftkoeln.de - ECPv5.14.2.1//NONSGML v1.0//EN
CALSCALE:GREGORIAN
METHOD:PUBLISH
X-WR-CALNAME:www.loftkoeln.de
X-ORIGINAL-URL:https://www.loftkoeln.de
X-WR-CALDESC:Veranstaltungen für www.loftkoeln.de
BEGIN:VTIMEZONE
TZID:UTC
BEGIN:STANDARD
TZOFFSETFROM:+0000
TZOFFSETTO:+0000
TZNAME:UTC
DTSTART:20140101T000000
END:STANDARD
END:VTIMEZONE
BEGIN:VEVENT
DTSTART;TZID=UTC:20140615T203000
DTEND;TZID=UTC:20140615T203000
DTSTAMP:20260423T111333
CREATED:20170322T133547Z
LAST-MODIFIED:20170322T133547Z
UID:4404-1402864200-1402864200@www.loftkoeln.de
SUMMARY:Soundabout
DESCRIPTION:Lisa Feste-Wermann\nTanja Dietrich\nJörg Bednarz \nOliver Feste\nDankmar Oberwahrenbrock \n\nDas fünfköpfige A cappella Ensemble Soundabout aus Köln/Hürth wurde im Februar 2005 gegründet und singt in der aktuellen Besetzung S-A-T-T-B seit 2010 zusammen. Soundabout präsentiert – unplugged oder verstärkt Pop\, Folk\, Musical\, Gospel\, Kölsches und alles\, was sich singen lässt und Spaß macht! \n\nInfos : www.soundabout-acappella.de
URL:https://www.loftkoeln.de/event/soundabout/
END:VEVENT
END:VCALENDAR